BEGIN:VCALENDAR
VERSION:2.0
PRODID:-//River Arts Alliance - ECPv6.15.20//NONSGML v1.0//EN
CALSCALE:GREGORIAN
METHOD:PUBLISH
X-ORIGINAL-URL:https://riverartsalliance.org
X-WR-CALDESC:Events for River Arts Alliance
REFRESH-INTERVAL;VALUE=DURATION:PT1H
X-Robots-Tag:noindex
X-PUBLISHED-TTL:PT1H
BEGIN:VTIMEZONE
TZID:America/Chicago
BEGIN:DAYLIGHT
TZOFFSETFROM:-0600
TZOFFSETTO:-0500
TZNAME:CDT
DTSTART:20240310T080000
END:DAYLIGHT
BEGIN:STANDARD
TZOFFSETFROM:-0500
TZOFFSETTO:-0600
TZNAME:CST
DTSTART:20241103T070000
END:STANDARD
BEGIN:DAYLIGHT
TZOFFSETFROM:-0600
TZOFFSETTO:-0500
TZNAME:CDT
DTSTART:20250309T080000
END:DAYLIGHT
BEGIN:STANDARD
TZOFFSETFROM:-0500
TZOFFSETTO:-0600
TZNAME:CST
DTSTART:20251102T070000
END:STANDARD
BEGIN:DAYLIGHT
TZOFFSETFROM:-0600
TZOFFSETTO:-0500
TZNAME:CDT
DTSTART:20260308T080000
END:DAYLIGHT
BEGIN:STANDARD
TZOFFSETFROM:-0500
TZOFFSETTO:-0600
TZNAME:CST
DTSTART:20261101T070000
END:STANDARD
END:VTIMEZONE
BEGIN:VEVENT
DTSTART;TZID=America/Chicago:20250427T100000
DTEND;TZID=America/Chicago:20250427T170000
DTSTAMP:20260419T230605
CREATED:20250419T132326Z
LAST-MODIFIED:20250419T132326Z
UID:10001560-1745748000-1745773200@riverartsalliance.org
SUMMARY:Southeast Minnesota Artists Present Annual Bluff Country Studio Art Tour
DESCRIPTION:Self-Guided Tour | 10 am – 5 pm \nDon’t miss the once-a-year event that celebrates Southeast Minnesota’s talented artists and the unique works they create! Springtime in Minnesota can mean daffodils or snow\, and sometimes both\, but the last weekend in April has meant the Bluff Country Studio Art Tour for more than two decades. The scenic self-guided tour is an opportunity to enjoy spring in SE Minnesota’s Bluff Country and the hospitality of local artists in their studios. Learn more.
URL:https://riverartsalliance.org/event/southeast-minnesota-artists-present-annual-bluff-country-studio-art-tour/2025-04-27/
LOCATION:MN
END:VEVENT
BEGIN:VEVENT
DTSTART;TZID=America/Chicago:20250427T130000
DTEND;TZID=America/Chicago:20250427T160000
DTSTAMP:20260419T230605
CREATED:20250318T164131Z
LAST-MODIFIED:20250318T164131Z
UID:10001428-1745758800-1745769600@riverartsalliance.org
SUMMARY:WAC to Feature Linda Arnesen: An Artist’s Watercolor Journey
DESCRIPTION:Opening Reception\nExhibit Runs April 27 – June 8\nFree Admission | WAC Donations Welcome\nWinona Arts Center | 228 E 5th St\nwinonaarts.org \nThe Winona Arts Center will be featuring an exhibit showcasing artist Linda Arnesen’s watercolor journey. Living in Winona\, the driftless region of the state\, she finds endless subjects in landscapes along with a variety of other subjects from floral\, portraits\, birds\, architecture\, etc. Learn more.
URL:https://riverartsalliance.org/event/wac-to-feature-linda-arnesen-an-artists-watercolor-journey/
LOCATION:Winona Arts Center\, 228 E 5th St.\, Winona\, MN\, 55987\, United States
END:VEVENT
BEGIN:VEVENT
DTSTART;TZID=America/Chicago:20250427T133000
DTEND;TZID=America/Chicago:20250427T153000
DTSTAMP:20260419T230605
CREATED:20250316T142354Z
LAST-MODIFIED:20250318T114059Z
UID:10001357-1745760600-1745767800@riverartsalliance.org
SUMMARY:Commonweal Theatre Presents The Half-Life of Marie Curie
DESCRIPTION:Commonweal Theatre Company | 208 Parkway Ave N\, Lanesboro\, MN\ncommonwealtheatre.org \n  \nDon’t miss this wonderful production of The Half-Life of Marie Curie\, directed by Jaclyn June Johnson and featuring Commonweal ensemble members Stela Burdt and Laurie Roberts. The play is based on a true story that illuminates the indomitable power of friendship between two extraordinary scientists. Learn more.
URL:https://riverartsalliance.org/event/commonweal-theatre-presents-the-half-life-of-marie-curie/2025-04-27/
LOCATION:Commonweal Theatre\, 208 Parkway Ave. N\, Lanesboro\, MN\, United States
END:VEVENT
BEGIN:VEVENT
DTSTART;TZID=America/Chicago:20250427T150000
DTEND;TZID=America/Chicago:20250427T160000
DTSTAMP:20260419T230605
CREATED:20250419T122508Z
LAST-MODIFIED:20250419T122508Z
UID:10001556-1745766000-1745769600@riverartsalliance.org
SUMMARY:Central Lutheran Arts Weekend April 26-27
DESCRIPTION:Central Lutheran Church | 259 W Wabasha St.\nhttps://www.centrallutheranchurch.org/ \nWSU Choirs\, under the direction of Dr. Colleen Chester\, will present their spring concert\, Home and Sacred Spaces\, on Saturday\, April 26 at 7:30 pm. On Sunday\, April 27 at 3 pm\, critically acclaimed and internationally renowned violinist Marta Szlubowska and pianist Svetlana Belsky will present From Ukraine with Love. All proceeds from a free will offering will be directed to the UN Ukraine Humanitarian Fund. Learn more.
URL:https://riverartsalliance.org/event/central-lutheran-arts-weekend-april-26-27/2025-04-27/
LOCATION:Central Lutheran Church\, 259 W Wabasha St.\, Winona\, MN\, 55987\, United States
END:VEVENT
BEGIN:VEVENT
DTSTART;VALUE=DATE:20250428
DTEND;VALUE=DATE:20250506
DTSTAMP:20260419T230605
CREATED:20250202T152244Z
LAST-MODIFIED:20250202T152244Z
UID:10000570-1745798400-1746489599@riverartsalliance.org
SUMMARY:Frozen River Film Festival Celebrates 20 Years with New Film Series
DESCRIPTION:frff.eventive.org \nThis year the Frozen River Film Festival (FRFF) will be celebrating 20 years of bringing documentary films and filmmakers to Winona. The festival begins Sunday\, February 9\, (You can still get home in time to watch the Super Bowl!) and runs through Sunday\, February 16. This year’s event will feature the World Premiere of FRFF’s self-produced documentary\, Beneath the Ice: The Frozen River Film Festival Story. Learn more.
URL:https://riverartsalliance.org/event/frozen-river-film-festival-celebrates-20-years-with-new-film-series/2025-04-28/
LOCATION:MN
END:VEVENT
BEGIN:VEVENT
DTSTART;VALUE=DATE:20250429
DTEND;VALUE=DATE:20250507
DTSTAMP:20260419T230605
CREATED:20250202T152244Z
LAST-MODIFIED:20250202T152244Z
UID:10000571-1745884800-1746575999@riverartsalliance.org
SUMMARY:Frozen River Film Festival Celebrates 20 Years with New Film Series
DESCRIPTION:frff.eventive.org \nThis year the Frozen River Film Festival (FRFF) will be celebrating 20 years of bringing documentary films and filmmakers to Winona. The festival begins Sunday\, February 9\, (You can still get home in time to watch the Super Bowl!) and runs through Sunday\, February 16. This year’s event will feature the World Premiere of FRFF’s self-produced documentary\, Beneath the Ice: The Frozen River Film Festival Story. Learn more.
URL:https://riverartsalliance.org/event/frozen-river-film-festival-celebrates-20-years-with-new-film-series/2025-04-29/
LOCATION:MN
END:VEVENT
BEGIN:VEVENT
DTSTART;VALUE=DATE:20250430
DTEND;VALUE=DATE:20250508
DTSTAMP:20260419T230605
CREATED:20250202T152244Z
LAST-MODIFIED:20250202T152244Z
UID:10000572-1745971200-1746662399@riverartsalliance.org
SUMMARY:Frozen River Film Festival Celebrates 20 Years with New Film Series
DESCRIPTION:frff.eventive.org \nThis year the Frozen River Film Festival (FRFF) will be celebrating 20 years of bringing documentary films and filmmakers to Winona. The festival begins Sunday\, February 9\, (You can still get home in time to watch the Super Bowl!) and runs through Sunday\, February 16. This year’s event will feature the World Premiere of FRFF’s self-produced documentary\, Beneath the Ice: The Frozen River Film Festival Story. Learn more.
URL:https://riverartsalliance.org/event/frozen-river-film-festival-celebrates-20-years-with-new-film-series/2025-04-30/
LOCATION:MN
END:VEVENT
BEGIN:VEVENT
DTSTART;TZID=America/Chicago:20250430T180000
DTEND;TZID=America/Chicago:20250430T200000
DTSTAMP:20260419T230605
CREATED:20250129T141403Z
LAST-MODIFIED:20250129T141403Z
UID:10001322-1746036000-1746043200@riverartsalliance.org
SUMMARY:Jim Reineke Performs at Blooming Grounds
DESCRIPTION:Blooming Grounds Coffee House | 50 E 3rd St. \nLocal musician Jim Reineke will be performing during an evening of folk\, blues\, and jazz music at the Blooming Grounds Coffee House. Jim will be playing banjo and mandolin. Learn more.
URL:https://riverartsalliance.org/event/jim-reineke-performs-at-blooming-grounds/
LOCATION:Blooming Grounds Coffee House\, 50 E 3rd St.\, Winona\, MN\, 55987\, United States
END:VEVENT
BEGIN:VEVENT
DTSTART;VALUE=DATE:20250501
DTEND;VALUE=DATE:20250509
DTSTAMP:20260419T230605
CREATED:20250202T152244Z
LAST-MODIFIED:20250202T152244Z
UID:10000573-1746057600-1746748799@riverartsalliance.org
SUMMARY:Frozen River Film Festival Celebrates 20 Years with New Film Series
DESCRIPTION:frff.eventive.org \nThis year the Frozen River Film Festival (FRFF) will be celebrating 20 years of bringing documentary films and filmmakers to Winona. The festival begins Sunday\, February 9\, (You can still get home in time to watch the Super Bowl!) and runs through Sunday\, February 16. This year’s event will feature the World Premiere of FRFF’s self-produced documentary\, Beneath the Ice: The Frozen River Film Festival Story. Learn more.
URL:https://riverartsalliance.org/event/frozen-river-film-festival-celebrates-20-years-with-new-film-series/2025-05-01/
LOCATION:MN
END:VEVENT
BEGIN:VEVENT
DTSTART;VALUE=DATE:20250501
DTEND;VALUE=DATE:20250601
DTSTAMP:20260419T230605
CREATED:20250430T103603Z
LAST-MODIFIED:20250430T103603Z
UID:10000978-1746057600-1748735999@riverartsalliance.org
SUMMARY:RAA Announces “Keep the Arts Alive in Winona” Spring Fund Drive
DESCRIPTION:$5\,000 Fundraising Goal\nDonate Now! \n  \nRiver Arts Alliance (RAA) has announced it will be conducting a spring fund drive throughout the month of May. The fund drive theme is “Keep the Arts Alive in Winona” and has a donation goal of $5\,000. \nProceeds from the “Keep the Arts Alive in Winona” fund drive will help RAA continue its work. Learn more.
URL:https://riverartsalliance.org/event/raa-announces-keep-the-arts-alive-in-winona-spring-fund-drive/
LOCATION:MN
END:VEVENT
BEGIN:VEVENT
DTSTART;TZID=America/Chicago:20250501T080000
DTEND;TZID=America/Chicago:20250501T160000
DTSTAMP:20260419T230605
CREATED:20250406T192814Z
LAST-MODIFIED:20250421T225157Z
UID:10001534-1746086400-1746115200@riverartsalliance.org
SUMMARY:Artist’s Garage Sale to Support RAA
DESCRIPTION:Thursday-Sunday\, May 1-4 | 8 am – 4 pm\nProceeds from Donated Items Support RAA\nMississippi Mornings Art Studio | 40341 Lamoille Dr \n  \nBecome an art collector without breaking the bank! Nine local artists will be donating their original works\, art supplies\, books\, and anything art related to a good cause—to support the efforts of River Arts Alliance. Learn more.
URL:https://riverartsalliance.org/event/artists-garage-sale-to-support-raa/2025-05-01/
LOCATION:Mississippi Mornings Art Studio\, 40341 Lamoille Dr.\, Winona\, MN\, 55987\, United States
END:VEVENT
BEGIN:VEVENT
DTSTART;VALUE=DATE:20250502
DTEND;VALUE=DATE:20250510
DTSTAMP:20260419T230605
CREATED:20250202T152244Z
LAST-MODIFIED:20250202T152244Z
UID:10000574-1746144000-1746835199@riverartsalliance.org
SUMMARY:Frozen River Film Festival Celebrates 20 Years with New Film Series
DESCRIPTION:frff.eventive.org \nThis year the Frozen River Film Festival (FRFF) will be celebrating 20 years of bringing documentary films and filmmakers to Winona. The festival begins Sunday\, February 9\, (You can still get home in time to watch the Super Bowl!) and runs through Sunday\, February 16. This year’s event will feature the World Premiere of FRFF’s self-produced documentary\, Beneath the Ice: The Frozen River Film Festival Story. Learn more.
URL:https://riverartsalliance.org/event/frozen-river-film-festival-celebrates-20-years-with-new-film-series/2025-05-02/
LOCATION:MN
END:VEVENT
BEGIN:VEVENT
DTSTART;TZID=America/Chicago:20250502T080000
DTEND;TZID=America/Chicago:20250502T160000
DTSTAMP:20260419T230605
CREATED:20250406T192814Z
LAST-MODIFIED:20250421T225157Z
UID:10001535-1746172800-1746201600@riverartsalliance.org
SUMMARY:Artist’s Garage Sale to Support RAA
DESCRIPTION:Thursday-Sunday\, May 1-4 | 8 am – 4 pm\nProceeds from Donated Items Support RAA\nMississippi Mornings Art Studio | 40341 Lamoille Dr \n  \nBecome an art collector without breaking the bank! Nine local artists will be donating their original works\, art supplies\, books\, and anything art related to a good cause—to support the efforts of River Arts Alliance. Learn more.
URL:https://riverartsalliance.org/event/artists-garage-sale-to-support-raa/2025-05-02/
LOCATION:Mississippi Mornings Art Studio\, 40341 Lamoille Dr.\, Winona\, MN\, 55987\, United States
END:VEVENT
BEGIN:VEVENT
DTSTART;TZID=America/Chicago:20250502T170000
DTEND;TZID=America/Chicago:20250502T190000
DTSTAMP:20260419T230605
CREATED:20250419T120054Z
LAST-MODIFIED:20250419T120054Z
UID:10001554-1746205200-1746212400@riverartsalliance.org
SUMMARY:BRIEZZEEE: Artwork by Brianne Daniels at the Blue Heron Coffeehouse
DESCRIPTION:Reception Friday\, May 2 | 5-7 pm\nExhibit May 1 – June 23\nBlue Heron Coffeehouse | 162 W 2nd St.\nblueheroncoffeehouse.com \n  \nWorks by Winona-based artist Brianne Daniels will be on display at the Blue Heron Coffeehouse May 1 through June 23. Many of the artist’s works are oil paintings focusing on various flowers\, dinosaurs\, and other creatures from the wild world we share. A reception will be held 5-7 pm at the Coffeehouse with free coffee\, wine\, and handcrafted appetizers donated by the Blue Heron. Learn more.
URL:https://riverartsalliance.org/event/briezzeee-artwork-by-brianne-daniels-at-the-blue-heron-coffeehouse/
LOCATION:Blue Heron Coffeehouse\, 162 W 2nd St\, Winona\, MN\, 55987\, United States
END:VEVENT
BEGIN:VEVENT
DTSTART;TZID=America/Chicago:20250502T193000
DTEND;TZID=America/Chicago:20250502T213000
DTSTAMP:20260419T230605
CREATED:20250316T142354Z
LAST-MODIFIED:20250318T114059Z
UID:10001358-1746214200-1746221400@riverartsalliance.org
SUMMARY:Commonweal Theatre Presents The Half-Life of Marie Curie
DESCRIPTION:Commonweal Theatre Company | 208 Parkway Ave N\, Lanesboro\, MN\ncommonwealtheatre.org \n  \nDon’t miss this wonderful production of The Half-Life of Marie Curie\, directed by Jaclyn June Johnson and featuring Commonweal ensemble members Stela Burdt and Laurie Roberts. The play is based on a true story that illuminates the indomitable power of friendship between two extraordinary scientists. Learn more.
URL:https://riverartsalliance.org/event/commonweal-theatre-presents-the-half-life-of-marie-curie/2025-05-02/
LOCATION:Commonweal Theatre\, 208 Parkway Ave. N\, Lanesboro\, MN\, United States
END:VEVENT
BEGIN:VEVENT
DTSTART;VALUE=DATE:20250503
DTEND;VALUE=DATE:20250511
DTSTAMP:20260419T230605
CREATED:20250202T152244Z
LAST-MODIFIED:20250202T152244Z
UID:10000575-1746230400-1746921599@riverartsalliance.org
SUMMARY:Frozen River Film Festival Celebrates 20 Years with New Film Series
DESCRIPTION:frff.eventive.org \nThis year the Frozen River Film Festival (FRFF) will be celebrating 20 years of bringing documentary films and filmmakers to Winona. The festival begins Sunday\, February 9\, (You can still get home in time to watch the Super Bowl!) and runs through Sunday\, February 16. This year’s event will feature the World Premiere of FRFF’s self-produced documentary\, Beneath the Ice: The Frozen River Film Festival Story. Learn more.
URL:https://riverartsalliance.org/event/frozen-river-film-festival-celebrates-20-years-with-new-film-series/2025-05-03/
LOCATION:MN
END:VEVENT
BEGIN:VEVENT
DTSTART;TZID=America/Chicago:20250503T070000
DTEND;TZID=America/Chicago:20250503T160000
DTSTAMP:20260419T230605
CREATED:20250408T180350Z
LAST-MODIFIED:20250408T180350Z
UID:10001542-1746255600-1746288000@riverartsalliance.org
SUMMARY:MMAM Workshop: Within the Waves — Utilizing Water as a Mirror for Photographic Expression
DESCRIPTION:Tuition: $250  | Member Rate: $240\nMinnesota Marine Art Museum | 800 Riverview Dr.\nminnesotamarineart.org \n  \nLed by famed Lake Superior photographer Craig Blacklock\, students will photograph reflections on the Mississippi River\, experimenting with different perspectives and shutter speeds. Students in this class will create stunningly colorful images of rippled water inspired by Blacklock’s photography series “Within the Waves.” The class will edit their images using both traditional and AI-based software\, guided by examples from both painting and photography\, and share their work during critiques. Learn more.
URL:https://riverartsalliance.org/event/mmam-workshop-within-the-waves-utilizing-water-as-a-mirror-for-photographic-expression/2025-05-03/
LOCATION:Minnesota Marine Art Museum\, 800 Riverview Dr.\, Winona\, MN\, 55987\, United States
END:VEVENT
BEGIN:VEVENT
DTSTART;TZID=America/Chicago:20250503T080000
DTEND;TZID=America/Chicago:20250503T160000
DTSTAMP:20260419T230605
CREATED:20250406T192814Z
LAST-MODIFIED:20250421T225157Z
UID:10001536-1746259200-1746288000@riverartsalliance.org
SUMMARY:Artist’s Garage Sale to Support RAA
DESCRIPTION:Thursday-Sunday\, May 1-4 | 8 am – 4 pm\nProceeds from Donated Items Support RAA\nMississippi Mornings Art Studio | 40341 Lamoille Dr \n  \nBecome an art collector without breaking the bank! Nine local artists will be donating their original works\, art supplies\, books\, and anything art related to a good cause—to support the efforts of River Arts Alliance. Learn more.
URL:https://riverartsalliance.org/event/artists-garage-sale-to-support-raa/2025-05-03/
LOCATION:Mississippi Mornings Art Studio\, 40341 Lamoille Dr.\, Winona\, MN\, 55987\, United States
END:VEVENT
BEGIN:VEVENT
DTSTART;TZID=America/Chicago:20250503T100000
DTEND;TZID=America/Chicago:20250503T160000
DTSTAMP:20260419T230605
CREATED:20250408T172938Z
LAST-MODIFIED:20250408T172938Z
UID:10001541-1746266400-1746288000@riverartsalliance.org
SUMMARY:WAC Hosts Spring Free Ink Event
DESCRIPTION:Free to the Public\nWinona Arts Center | 228 E 5th St.\nwinonaarts.org \nCome out and welcome Spring during the May Free Ink event at the Winona Arts Center. Create your very own\, one-of-a-kind monoprints using the etching press. Share your prints with mom for Mother’s Day and with family and friends. Learn more.
URL:https://riverartsalliance.org/event/wac-hosts-spring-free-ink-event/
LOCATION:MN
END:VEVENT
BEGIN:VEVENT
DTSTART;TZID=America/Chicago:20250503T133000
DTEND;TZID=America/Chicago:20250503T153000
DTSTAMP:20260419T230605
CREATED:20250316T142354Z
LAST-MODIFIED:20250318T114059Z
UID:10001359-1746279000-1746286200@riverartsalliance.org
SUMMARY:Commonweal Theatre Presents The Half-Life of Marie Curie
DESCRIPTION:Commonweal Theatre Company | 208 Parkway Ave N\, Lanesboro\, MN\ncommonwealtheatre.org \n  \nDon’t miss this wonderful production of The Half-Life of Marie Curie\, directed by Jaclyn June Johnson and featuring Commonweal ensemble members Stela Burdt and Laurie Roberts. The play is based on a true story that illuminates the indomitable power of friendship between two extraordinary scientists. Learn more.
URL:https://riverartsalliance.org/event/commonweal-theatre-presents-the-half-life-of-marie-curie/2025-05-03/1/
LOCATION:Commonweal Theatre\, 208 Parkway Ave. N\, Lanesboro\, MN\, United States
END:VEVENT
BEGIN:VEVENT
DTSTART;TZID=America/Chicago:20250503T190000
DTEND;TZID=America/Chicago:20250503T190000
DTSTAMP:20260419T230605
CREATED:20250409T174139Z
LAST-MODIFIED:20250409T174139Z
UID:10001550-1746298800-1746298800@riverartsalliance.org
SUMMARY:WAC Welcomes Swamp Poppas in Concert
DESCRIPTION:$20/Advance | $25 Door\nWinona Arts Center | 228 E 5th St.\nwinonaarts.org \nLet the Good times Roll with this incredible mix of Cajun\, Zydeco; blues\, rock\, and country. There will be a special Cajun treat along with a cash bar for wine and beer. Coffee house and gallery open at 6 pm for your enjoyment and viewing before the concert. Learn more.
URL:https://riverartsalliance.org/event/wac-welcomes-swamp-poppas-in-concert/
LOCATION:Winona Arts Center\, 228 E 5th St.\, Winona\, MN\, 55987\, United States
END:VEVENT
BEGIN:VEVENT
DTSTART;TZID=America/Chicago:20250503T193000
DTEND;TZID=America/Chicago:20250503T213000
DTSTAMP:20260419T230605
CREATED:20250316T142354Z
LAST-MODIFIED:20250318T114059Z
UID:10001360-1746300600-1746307800@riverartsalliance.org
SUMMARY:Commonweal Theatre Presents The Half-Life of Marie Curie
DESCRIPTION:Commonweal Theatre Company | 208 Parkway Ave N\, Lanesboro\, MN\ncommonwealtheatre.org \n  \nDon’t miss this wonderful production of The Half-Life of Marie Curie\, directed by Jaclyn June Johnson and featuring Commonweal ensemble members Stela Burdt and Laurie Roberts. The play is based on a true story that illuminates the indomitable power of friendship between two extraordinary scientists. Learn more.
URL:https://riverartsalliance.org/event/commonweal-theatre-presents-the-half-life-of-marie-curie/2025-05-03/2/
LOCATION:Commonweal Theatre\, 208 Parkway Ave. N\, Lanesboro\, MN\, United States
END:VEVENT
BEGIN:VEVENT
DTSTART;VALUE=DATE:20250504
DTEND;VALUE=DATE:20250512
DTSTAMP:20260419T230605
CREATED:20250202T152244Z
LAST-MODIFIED:20250202T152244Z
UID:10000576-1746316800-1747007999@riverartsalliance.org
SUMMARY:Frozen River Film Festival Celebrates 20 Years with New Film Series
DESCRIPTION:frff.eventive.org \nThis year the Frozen River Film Festival (FRFF) will be celebrating 20 years of bringing documentary films and filmmakers to Winona. The festival begins Sunday\, February 9\, (You can still get home in time to watch the Super Bowl!) and runs through Sunday\, February 16. This year’s event will feature the World Premiere of FRFF’s self-produced documentary\, Beneath the Ice: The Frozen River Film Festival Story. Learn more.
URL:https://riverartsalliance.org/event/frozen-river-film-festival-celebrates-20-years-with-new-film-series/2025-05-04/
LOCATION:MN
END:VEVENT
BEGIN:VEVENT
DTSTART;TZID=America/Chicago:20250504T070000
DTEND;TZID=America/Chicago:20250504T160000
DTSTAMP:20260419T230605
CREATED:20250408T180350Z
LAST-MODIFIED:20250408T180350Z
UID:10001543-1746342000-1746374400@riverartsalliance.org
SUMMARY:MMAM Workshop: Within the Waves — Utilizing Water as a Mirror for Photographic Expression
DESCRIPTION:Tuition: $250  | Member Rate: $240\nMinnesota Marine Art Museum | 800 Riverview Dr.\nminnesotamarineart.org \n  \nLed by famed Lake Superior photographer Craig Blacklock\, students will photograph reflections on the Mississippi River\, experimenting with different perspectives and shutter speeds. Students in this class will create stunningly colorful images of rippled water inspired by Blacklock’s photography series “Within the Waves.” The class will edit their images using both traditional and AI-based software\, guided by examples from both painting and photography\, and share their work during critiques. Learn more.
URL:https://riverartsalliance.org/event/mmam-workshop-within-the-waves-utilizing-water-as-a-mirror-for-photographic-expression/2025-05-04/
LOCATION:Minnesota Marine Art Museum\, 800 Riverview Dr.\, Winona\, MN\, 55987\, United States
END:VEVENT
BEGIN:VEVENT
DTSTART;TZID=America/Chicago:20250504T080000
DTEND;TZID=America/Chicago:20250504T160000
DTSTAMP:20260419T230605
CREATED:20250406T192814Z
LAST-MODIFIED:20250421T225157Z
UID:10001537-1746345600-1746374400@riverartsalliance.org
SUMMARY:Artist’s Garage Sale to Support RAA
DESCRIPTION:Thursday-Sunday\, May 1-4 | 8 am – 4 pm\nProceeds from Donated Items Support RAA\nMississippi Mornings Art Studio | 40341 Lamoille Dr \n  \nBecome an art collector without breaking the bank! Nine local artists will be donating their original works\, art supplies\, books\, and anything art related to a good cause—to support the efforts of River Arts Alliance. Learn more.
URL:https://riverartsalliance.org/event/artists-garage-sale-to-support-raa/2025-05-04/
LOCATION:Mississippi Mornings Art Studio\, 40341 Lamoille Dr.\, Winona\, MN\, 55987\, United States
END:VEVENT
BEGIN:VEVENT
DTSTART;TZID=America/Chicago:20250504T120000
DTEND;TZID=America/Chicago:20250504T150000
DTSTAMP:20260419T230605
CREATED:20250424T114250Z
LAST-MODIFIED:20250424T114250Z
UID:10000977-1746360000-1746370800@riverartsalliance.org
SUMMARY:Patina at Kinstone for the Annual Family Day and Spring Open House
DESCRIPTION:Kinstone | S3439 Cole Bluff Lane\, Fountain City\, WI\npatinatheband.com \nCome out to Kinstone on Sunday\, May 4 at 12 pm to hear the band Patina perform at Kinstone’s annual Family Day and Spring Open House. Patina plays a mix of traditional and contemporary Celtic\, folk\, and original instrumentals and vocals. Learn more.
URL:https://riverartsalliance.org/event/patina-at-kinstone-for-the-annual-family-day-and-spring-open-house/
LOCATION:Kinstone\, S3439 Cole Bluff Lane\, Fountain City\, WI\, 54629\, United States
END:VEVENT
BEGIN:VEVENT
DTSTART;TZID=America/Chicago:20250504T133000
DTEND;TZID=America/Chicago:20250504T153000
DTSTAMP:20260419T230605
CREATED:20250316T142354Z
LAST-MODIFIED:20250318T114059Z
UID:10001361-1746365400-1746372600@riverartsalliance.org
SUMMARY:Commonweal Theatre Presents The Half-Life of Marie Curie
DESCRIPTION:Commonweal Theatre Company | 208 Parkway Ave N\, Lanesboro\, MN\ncommonwealtheatre.org \n  \nDon’t miss this wonderful production of The Half-Life of Marie Curie\, directed by Jaclyn June Johnson and featuring Commonweal ensemble members Stela Burdt and Laurie Roberts. The play is based on a true story that illuminates the indomitable power of friendship between two extraordinary scientists. Learn more.
URL:https://riverartsalliance.org/event/commonweal-theatre-presents-the-half-life-of-marie-curie/2025-05-04/
LOCATION:Commonweal Theatre\, 208 Parkway Ave. N\, Lanesboro\, MN\, United States
END:VEVENT
BEGIN:VEVENT
DTSTART;TZID=America/Chicago:20250504T170000
DTEND;TZID=America/Chicago:20250504T190000
DTSTAMP:20260419T230605
CREATED:20250330T225650Z
LAST-MODIFIED:20251203T164645Z
UID:10000952-1746378000-1746385200@riverartsalliance.org
SUMMARY:Gate City Jazz Band Performs First Sunday Each Month
DESCRIPTION:First Sunday of Each Month | 5-7 pm\nWestfield Golf Course | 1460 W 5th St\nNo Cover Charge\nwestfieldgolfclub.com \nThe Gate City Jazz Band is rising from the ashes of the Blackhorse restaurant where they regularly played\, to once again perform in their new location at the Westfield Golf Course restaurant. Performances are the first Sunday of each month\, 5-7 pm for your listening and toe-tapping pleasure. Come enjoy the cuisine and music at the same time. No cover charge. Learn more.
URL:https://riverartsalliance.org/event/gate-city-jazz-band-performs-first-sunday-each-month/2025-05-04/
LOCATION:MN
END:VEVENT
BEGIN:VEVENT
DTSTART;VALUE=DATE:20250505
DTEND;VALUE=DATE:20250513
DTSTAMP:20260419T230605
CREATED:20250202T152244Z
LAST-MODIFIED:20250202T152244Z
UID:10000577-1746403200-1747094399@riverartsalliance.org
SUMMARY:Frozen River Film Festival Celebrates 20 Years with New Film Series
DESCRIPTION:frff.eventive.org \nThis year the Frozen River Film Festival (FRFF) will be celebrating 20 years of bringing documentary films and filmmakers to Winona. The festival begins Sunday\, February 9\, (You can still get home in time to watch the Super Bowl!) and runs through Sunday\, February 16. This year’s event will feature the World Premiere of FRFF’s self-produced documentary\, Beneath the Ice: The Frozen River Film Festival Story. Learn more.
URL:https://riverartsalliance.org/event/frozen-river-film-festival-celebrates-20-years-with-new-film-series/2025-05-05/
LOCATION:MN
END:VEVENT
BEGIN:VEVENT
DTSTART;VALUE=DATE:20250506
DTEND;VALUE=DATE:20250514
DTSTAMP:20260419T230605
CREATED:20250202T152244Z
LAST-MODIFIED:20250202T152244Z
UID:10000578-1746489600-1747180799@riverartsalliance.org
SUMMARY:Frozen River Film Festival Celebrates 20 Years with New Film Series
DESCRIPTION:frff.eventive.org \nThis year the Frozen River Film Festival (FRFF) will be celebrating 20 years of bringing documentary films and filmmakers to Winona. The festival begins Sunday\, February 9\, (You can still get home in time to watch the Super Bowl!) and runs through Sunday\, February 16. This year’s event will feature the World Premiere of FRFF’s self-produced documentary\, Beneath the Ice: The Frozen River Film Festival Story. Learn more.
URL:https://riverartsalliance.org/event/frozen-river-film-festival-celebrates-20-years-with-new-film-series/2025-05-06/
LOCATION:MN
END:VEVENT
END:VCALENDAR