BEGIN:VCALENDAR
VERSION:2.0
PRODID:-//River Arts Alliance - ECPv6.15.20//NONSGML v1.0//EN
CALSCALE:GREGORIAN
METHOD:PUBLISH
X-WR-CALNAME:River Arts Alliance
X-ORIGINAL-URL:https://riverartsalliance.org
X-WR-CALDESC:Events for River Arts Alliance
REFRESH-INTERVAL;VALUE=DURATION:PT1H
X-Robots-Tag:noindex
X-PUBLISHED-TTL:PT1H
BEGIN:VTIMEZONE
TZID:America/Chicago
BEGIN:DAYLIGHT
TZOFFSETFROM:-0600
TZOFFSETTO:-0500
TZNAME:CDT
DTSTART:20210314T080000
END:DAYLIGHT
BEGIN:STANDARD
TZOFFSETFROM:-0500
TZOFFSETTO:-0600
TZNAME:CST
DTSTART:20211107T070000
END:STANDARD
BEGIN:DAYLIGHT
TZOFFSETFROM:-0600
TZOFFSETTO:-0500
TZNAME:CDT
DTSTART:20220313T080000
END:DAYLIGHT
BEGIN:STANDARD
TZOFFSETFROM:-0500
TZOFFSETTO:-0600
TZNAME:CST
DTSTART:20221106T070000
END:STANDARD
BEGIN:DAYLIGHT
TZOFFSETFROM:-0600
TZOFFSETTO:-0500
TZNAME:CDT
DTSTART:20230312T080000
END:DAYLIGHT
BEGIN:STANDARD
TZOFFSETFROM:-0500
TZOFFSETTO:-0600
TZNAME:CST
DTSTART:20231105T070000
END:STANDARD
END:VTIMEZONE
BEGIN:VEVENT
DTSTART;TZID=America/Chicago:20220805T180000
DTEND;TZID=America/Chicago:20220805T184500
DTSTAMP:20260425T052221
CREATED:20220801T190921Z
LAST-MODIFIED:20220801T190921Z
UID:10000039-1659722400-1659725100@riverartsalliance.org
SUMMARY:MCA Summer Music Division Concert
DESCRIPTION:Minnesota Conservatory for the Arts | 1164 W Howard (10th) St.\nmca.smumn.edu \nThe Minnesota Conservatory for the Arts (MCA) music division invites the community to our summer concert held inside MCA’s home\, the Valencia Arts Center\, on Friday\, August 5th\, 2022 at 6:00pm. \nThis concert will feature music students of all ages and experience levels playing a variety of music and instruments. Admission is free-will donation. All donations will support future programming and the MCA scholarship fund. MCA is committed to making the arts accessible to all community members. Learn more.
URL:https://riverartsalliance.org/event/mca-summer-music-division-concert/
LOCATION:Minnesota Conservatory for the Arts\, 1164 W 10th St.\, Winona\, MN\, United States
END:VEVENT
BEGIN:VEVENT
DTSTART;TZID=America/Chicago:20220806T130000
DTEND;TZID=America/Chicago:20220806T150000
DTSTAMP:20260425T052221
CREATED:20220801T191211Z
LAST-MODIFIED:20220801T191211Z
UID:10000041-1659790800-1659798000@riverartsalliance.org
SUMMARY:Opening Reception - The Art of Fine Furniture 2022: From Tree to Home at WCHC
DESCRIPTION:August 6 through September 17\nOpening Reception | Saturday | August 6 | 1-3 pm\nWinona County History Center | 160 Johnson St.\nwww.winonahistory.org/artgallery \n​Curated by local studio furniture maker\, TiAnna DeGarmo\, this year’s exhibition highlights the artists’ favorite woods and why specific woods are selected for certain pieces. We will explore grain patterns\, veneers\, and dive deep into the processes based on how these amazing artists use lumber. Proudly sponsored by WNB Financial. Learn more.
URL:https://riverartsalliance.org/event/opening-reception-the-art-of-fine-furniture-2022-from-tree-to-home-at-wchc/
LOCATION:Winona County History Center\, 160 Johnson St\, Winona\, MN\, 55987\, United States
END:VEVENT
BEGIN:VEVENT
DTSTART;TZID=America/Chicago:20220812T190000
DTEND;TZID=America/Chicago:20220812T200000
DTSTAMP:20260425T052221
CREATED:20220710T232511Z
LAST-MODIFIED:20220725T173555Z
UID:10000071-1660330800-1660334400@riverartsalliance.org
SUMMARY:MCA Presents: Junie B. Jones The Musical JR.
DESCRIPTION:Minnesota Conservatory for the Arts | 1164 W 10th St.\nmca.smumn.edu \nLaugh yourself silly with Junie B. Jones in this hilarious musical. The Minnesota Conservatory for the Arts (MCA) students will present Junie B Jones The Musical JR.\, a 60-minute student version of the witty and charming show featuring a book and lyrics by Marcy Heisler and music by Zina Goldrich. Performances are on Friday\, August 12th at 7pm and Saturday\, August 13th at 2pm and 7pm. Ticket sales begin August 2nd and are available for purchase in-person at MCA by cash or check only. $8/Adults\, $5/Kids & Seniors. Learn more.
URL:https://riverartsalliance.org/event/junie-b-jones-the-musical-jr-performance/
LOCATION:Minnesota Conservatory for the Arts\, 1164 W 10th St.\, Winona\, MN\, United States
END:VEVENT
BEGIN:VEVENT
DTSTART;TZID=America/Chicago:20220813T100000
DTEND;TZID=America/Chicago:20220813T170000
DTSTAMP:20260425T052221
CREATED:20220808T232140Z
LAST-MODIFIED:20220808T232140Z
UID:10000047-1660384800-1660410000@riverartsalliance.org
SUMMARY:Waterscapes: Summer Seasonal Saturday Event at MMAM
DESCRIPTION:Minnesota Marine Art Museum | 800 Riverview Dr.\nwww.MMAM.org \nOn August 13\, the Minnesota Marine Art Museum will offer its popular quarterly arts access program\, Seasonal Saturday. These are fun-filled\, inviting days that offer $1 admission\, free transportation\, a themed art activity\, artist-led programming\, live music in the galleries\, and 30-minute tours. Learn more.
URL:https://riverartsalliance.org/event/waterscapes-summer-seasonal-saturday-event-at-mmam/
LOCATION:Minnesota Marine Art Museum\, 800 Riverview Dr.\, Winona\, MN\, 55987\, United States
END:VEVENT
BEGIN:VEVENT
DTSTART;TZID=America/Chicago:20220813T140000
DTEND;TZID=America/Chicago:20220813T150000
DTSTAMP:20260425T052221
CREATED:20220710T232511Z
LAST-MODIFIED:20220725T173928Z
UID:10000072-1660399200-1660402800@riverartsalliance.org
SUMMARY:MCA Presents: Junie B. Jones The Musical JR.
DESCRIPTION:Minnesota Conservatory for the Arts | 1164 W 10th St.\nmca.smumn.edu \nLaugh yourself silly with Junie B. Jones in this hilarious musical. The Minnesota Conservatory for the Arts (MCA) students will present Junie B Jones The Musical JR.\, a 60-minute student version of the witty and charming show featuring a book and lyrics by Marcy Heisler and music by Zina Goldrich. Performances are on Friday\, August 12th at 7pm and Saturday\, August 13th at 2pm and 7pm. Ticket sales begin August 2nd and are available for purchase in-person at MCA by cash or check only. $8/Adults\, $5/Kids & Seniors. Learn more.
URL:https://riverartsalliance.org/event/junie-b-jones-the-musical-jr-performance-2/
LOCATION:Minnesota Conservatory for the Arts\, 1164 W 10th St.\, Winona\, MN\, United States
END:VEVENT
BEGIN:VEVENT
DTSTART;TZID=America/Chicago:20220813T190000
DTEND;TZID=America/Chicago:20220813T200000
DTSTAMP:20260425T052221
CREATED:20220710T232511Z
LAST-MODIFIED:20220725T174202Z
UID:10000073-1660417200-1660420800@riverartsalliance.org
SUMMARY:MCA Presents: Junie B. Jones The Musical JR.
DESCRIPTION:Minnesota Conservatory for the Arts | 1164 W 10th St.\nmca.smumn.edu \nLaugh yourself silly with Junie B. Jones in this hilarious musical. The Minnesota Conservatory for the Arts (MCA) students will present Junie B Jones The Musical JR.\, a 60-minute student version of the witty and charming show featuring a book and lyrics by Marcy Heisler and music by Zina Goldrich. Performances are on Friday\, August 12th at 7pm and Saturday\, August 13th at 2pm and 7pm. Ticket sales begin August 2nd and are available for purchase in-person at MCA by cash or check only. $8/Adults\, $5/Kids & Seniors. Learn more.
URL:https://riverartsalliance.org/event/junie-b-jones-the-musical-jr-performance-3/
LOCATION:Minnesota Conservatory for the Arts\, 1164 W 10th St.\, Winona\, MN\, United States
END:VEVENT
BEGIN:VEVENT
DTSTART;TZID=America/Chicago:20220813T190000
DTEND;TZID=America/Chicago:20220813T200000
DTSTAMP:20260425T052221
CREATED:20220809T230523Z
LAST-MODIFIED:20220809T230523Z
UID:10000050-1660417200-1660420800@riverartsalliance.org
SUMMARY:SHIFT~ a performance salon Presents LAND/ings: Katwa Ngoma & Sharon Mansur
DESCRIPTION:East End Recreation Center | 210 Zumbro St.\nmansurdance.com/shift.html \nJoin Winona based percussionist Katwa Ngoma & dance/interdisciplinary artist Sharon Mansur for LAND/ings\, a music and dance performance that reflects the imperfectly perfect everyday spaces we inhabit. \nIN PERSON EVENT GUIDELINES:\nWear comfortable walking shoes and bring a folding chair for your seating comfort! You are also welcome to stand and wander during the event. Total performance will be 45 minutes followed by a brief 15 minute audience discussion. \nFor audience accommodation requests: sharonmansur@gmail.com. \nLearn more.
URL:https://riverartsalliance.org/event/shift-a-performance-salon-presents-land-ings-katwa-ngoma-sharon-mansur/
LOCATION:East Recreation Center\, 210 Zumbro St.\, Winona\, MN\, 55987\, United States
END:VEVENT
BEGIN:VEVENT
DTSTART;TZID=America/Chicago:20220815T130000
DTEND;TZID=America/Chicago:20220815T150000
DTSTAMP:20260425T052221
CREATED:20220808T232754Z
LAST-MODIFIED:20220808T232754Z
UID:10000048-1660568400-1660575600@riverartsalliance.org
SUMMARY:Great River Writes – August Winona Writers Group Meeting
DESCRIPTION:Winona Public Library | 151 W 5th St. \nBring a copy of your writing that you wish to share (up to 2000 words). Optionally\, bring 4 or 5 extra copies to share with participants. See August writing prompts & learn more here.
URL:https://riverartsalliance.org/event/great-river-writes-august-winona-writers-group-meeting/
LOCATION:Winona Public Library\, 151 W 5th St.\, Winona\, MN\, 55987\, United States
END:VEVENT
BEGIN:VEVENT
DTSTART;TZID=America/Chicago:20220816T173000
DTEND;TZID=America/Chicago:20220816T190000
DTSTAMP:20260425T052221
CREATED:20220710T232511Z
LAST-MODIFIED:20220714T200343Z
UID:10000074-1660671000-1660676400@riverartsalliance.org
SUMMARY:artsXchange at MMAM with Terri Karsten
DESCRIPTION:Minnesota Marine Art Museum | 800 Riverview Dr.www.mmam.org/artsxchangeA collaboration of MMAM and RAA. More information to come.
URL:https://riverartsalliance.org/event/artsxchange-at-mmam-with-terri-karsten/
LOCATION:Minnesota Marine Art Museum\, 800 Riverview Dr.\, Winona\, MN\, 55987\, United States
END:VEVENT
BEGIN:VEVENT
DTSTART;TZID=America/Chicago:20220819T180000
DTEND;TZID=America/Chicago:20220819T210000
DTSTAMP:20260425T052221
CREATED:20220810T014412Z
LAST-MODIFIED:20220810T014412Z
UID:10000014-1660932000-1660942800@riverartsalliance.org
SUMMARY:Puppet Making Capstone Event with Dr. Bob at WAC
DESCRIPTION:Winona Arts Center | 228 E 5th St.\nwinonaarts.org \nThe capstone event for Dr. Bob’s puppet making classes will be held on August 19 at the Winona Arts Center. Dr. Bob offered four free puppet making classes for individuals ages 9 through 18 in June and July. Students were able to use a simple template to build a rod style puppet. The capstone event will provide an opportunity to view the newly created puppets along with a presentation on the process of building puppets and a puppet show. Learn more.
URL:https://riverartsalliance.org/event/puppet-making-capstone-event-with-dr-bob-at-wac/
LOCATION:Winona Arts Center\, 228 E 5th St.\, Winona\, MN\, 55987\, United States
END:VEVENT
BEGIN:VEVENT
DTSTART;TZID=America/Chicago:20220820T090000
DTEND;TZID=America/Chicago:20220820T150000
DTSTAMP:20260425T052221
CREATED:20220801T202420Z
LAST-MODIFIED:20220801T202420Z
UID:10000046-1660986000-1661007600@riverartsalliance.org
SUMMARY:MCA Free-For-All
DESCRIPTION:MCA | 1164 W Howard (10th) St.\nmca.smumn.edu \nThe Minnesota Conservatory for the Arts (MCA) is having a Free-for-All on Saturday\, August 20th. \nHas your child been waiting for just the right time to check out one of our classes? The wait is now over! All classes are FREE so come try them out! Space is limited so preregistration is recommended. Learn more.
URL:https://riverartsalliance.org/event/mca-free-for-all/
LOCATION:Minnesota Conservatory for the Arts\, 1164 W 10th St.\, Winona\, MN\, United States
END:VEVENT
BEGIN:VEVENT
DTSTART;TZID=America/Chicago:20220821T143000
DTEND;TZID=America/Chicago:20220821T173000
DTSTAMP:20260425T052221
CREATED:20220812T151757Z
LAST-MODIFIED:20220812T151757Z
UID:10000022-1661092200-1661103000@riverartsalliance.org
SUMMARY:August Jazz Jam Supporting Friends of the Refuge Headwaters
DESCRIPTION:Island City Brewing Company | 65 E Front St.\nH3OJazz.com \nWhether you paddle\, hike\, fish\, or love birds\, the Upper Mississippi River National Wildlife and Fish Refuge in Winona’s backyard is a world-class wildlife area that also offers fantastic recreation opportunities. This month’s Jazz Jam at Island City Brewing Company will support the Friends of the Refuge Headwaters\, a volunteer organization made up of people who support the Refuge. The group hosts activities throughout the year that bring people out onto the Refuge (paddling\, fishing\, birdwatching)\, assist Refuge staff with biological surveys\, and educate and advocate on behalf of the Refuge. All donations at the August Jazz Jam will be matched by H3O Jazz Trio and Island City – tripling the total for the Friends of the Refuge! Learn more.
URL:https://riverartsalliance.org/event/august-jazz-jam-supporting-friends-of-the-refuge-headwaters/
LOCATION:Island City Brewing Company\, 65 E Front St\, Winona\, MN\, 55987\, United States
END:VEVENT
BEGIN:VEVENT
DTSTART;TZID=America/Chicago:20220823T170000
DTEND;TZID=America/Chicago:20220823T190000
DTSTAMP:20260425T052221
CREATED:20220801T191615Z
LAST-MODIFIED:20220819T224835Z
UID:10000051-1661274000-1661281200@riverartsalliance.org
SUMMARY:RAA Art Schmooze during Mississippi Sippin at MMAM
DESCRIPTION:Minnesota Marine Art Museum | 800 Riverview Dr. \nOn Tuesday evening\, August 23\, RAA will host a summer Art Schmooze gathering at the Minnesota Marine Art Museum’s beautiful riverside patio in conjunction with MMAM’s weekly Mississippi Sippin event. The Schmooze is an informal opportunity to meet fellow local artists\, creatives\, and arts supporters; chat with RAA’s board members and Arts Administrator; learn about the benefits of being an RAA member and join or renew your membership; and learn more about RAA’s work\, upcoming events\, and opportunities. The event is free and open to the public. Food and beverages will be available for purchase. In case of rain\, Mississippi Sippin and the Schmooze will be moved inside the museum. \nWe hope you can join us! Questions? Contact RAA Arts Administrator Johanna Rupprecht at admin@riverartsalliance.org.
URL:https://riverartsalliance.org/event/raa-art-schmooze-during-mississippi-sippin-at-mmam/
LOCATION:Minnesota Marine Art Museum\, 800 Riverview Dr.\, Winona\, MN\, 55987\, United States
END:VEVENT
BEGIN:VEVENT
DTSTART;TZID=America/Chicago:20220827T130000
DTEND;TZID=America/Chicago:20220827T140000
DTSTAMP:20260425T052221
CREATED:20220822T133016Z
LAST-MODIFIED:20220828T205250Z
UID:10000024-1661605200-1661608800@riverartsalliance.org
SUMMARY:Patina the Band at Great River Folk Fest
DESCRIPTION:Riverside Park | La Crosse\, WI\nwww.greatriverfolkfest.org \nJoin Patina on Saturday\, August 27 at the La Crosse Great River Folk Festival in Riverside Park. We will be kicking off the Festival music at 1:00 pm on the Bandshell Stage. Patina is a four-member\, Celtic-inspired band\, featuring Kara Mae Prosen\, Connie Dretske\, Sue Lee Ringwelski and Greg Peterson. Learn more.
URL:https://riverartsalliance.org/event/patina-the-band-at-great-river-folk-fest/
LOCATION:Riverside Park\, 100 State St.\, La Crosse\, WI\, 54601\, United States
END:VEVENT
BEGIN:VEVENT
DTSTART;TZID=America/Chicago:20220827T140000
DTEND;TZID=America/Chicago:20220827T160000
DTSTAMP:20260425T052221
CREATED:20220820T205955Z
LAST-MODIFIED:20220820T205955Z
UID:10000023-1661608800-1661616000@riverartsalliance.org
SUMMARY:Joan Porter-Einsman: “Summer of Sparky” Statue & Pop-Up Event
DESCRIPTION:City House | 258 Mill St. | Saint Paul\ncomozooconservatory.org/summer-of-sparky \nRAA member Joan Porter-Einsman is one of the twenty-one artists chosen to hand-paint a Sparky the Sea Lion statue as part of the “Summer of Sparky\,” sponsored by Como Park Zoo & Conservatory in Saint Paul. Joan’s statue can be seen this summer at City House\, 258 Mill St.\, Saint Paul\, where a pop-up event will be held on Saturday\, August 27\, featuring fun activities and fun ways to learn about ocean conservation. Learn more.
URL:https://riverartsalliance.org/event/joan-porter-einsman-summer-of-sparky-statue-pop-up-event/
LOCATION:City House\, 258 Mill St.\, Saint Paul\, MN\, 55102\, United States
END:VEVENT
END:VCALENDAR