BEGIN:VCALENDAR
VERSION:2.0
PRODID:-//River Arts Alliance - ECPv6.15.20//NONSGML v1.0//EN
CALSCALE:GREGORIAN
METHOD:PUBLISH
X-WR-CALNAME:River Arts Alliance
X-ORIGINAL-URL:https://riverartsalliance.org
X-WR-CALDESC:Events for River Arts Alliance
REFRESH-INTERVAL;VALUE=DURATION:PT1H
X-Robots-Tag:noindex
X-PUBLISHED-TTL:PT1H
BEGIN:VTIMEZONE
TZID:America/Chicago
BEGIN:DAYLIGHT
TZOFFSETFROM:-0600
TZOFFSETTO:-0500
TZNAME:CDT
DTSTART:20230312T080000
END:DAYLIGHT
BEGIN:STANDARD
TZOFFSETFROM:-0500
TZOFFSETTO:-0600
TZNAME:CST
DTSTART:20231105T070000
END:STANDARD
BEGIN:DAYLIGHT
TZOFFSETFROM:-0600
TZOFFSETTO:-0500
TZNAME:CDT
DTSTART:20240310T080000
END:DAYLIGHT
BEGIN:STANDARD
TZOFFSETFROM:-0500
TZOFFSETTO:-0600
TZNAME:CST
DTSTART:20241103T070000
END:STANDARD
BEGIN:DAYLIGHT
TZOFFSETFROM:-0600
TZOFFSETTO:-0500
TZNAME:CDT
DTSTART:20250309T080000
END:DAYLIGHT
BEGIN:STANDARD
TZOFFSETFROM:-0500
TZOFFSETTO:-0600
TZNAME:CST
DTSTART:20251102T070000
END:STANDARD
END:VTIMEZONE
BEGIN:VEVENT
DTSTART;TZID=America/Chicago:20240903T190000
DTEND;TZID=America/Chicago:20240903T190000
DTSTAMP:20260419T152813
CREATED:20240828T161924Z
LAST-MODIFIED:20240828T161924Z
UID:10001239-1725390000-1725390000@riverartsalliance.org
SUMMARY:Poetry Reading by Dougie Padilla
DESCRIPTION:Blue Heron Coffeehouse | 162 W 2nd St. \nDougie Padilla will read\, mostly from his new book of poetry “10 Feet Down\,” (his sixth in 10 years) at the Blue Heron Coffeehouse\, Tuesday\, September 3rd at 7 pm. The reading will be followed by a book signing and then an Open Mic. We encourage you to read at the Open Mic whether you are a seasoned writer or poet or are a newcomer. It is a receptive audience. \nDougie Padilla is a rock and roll poet whose readings are more like performance art than anything else. His work is filled with life\, spirituality\, humanity\, and emotion. Learn more.
URL:https://riverartsalliance.org/event/poetry-reading-by-dougie-padilla/
LOCATION:Blue Heron Coffeehouse\, 162 W 2nd St\, Winona\, MN\, 55987\, United States
END:VEVENT
BEGIN:VEVENT
DTSTART;TZID=America/Chicago:20240905T180000
DTEND;TZID=America/Chicago:20240905T200000
DTSTAMP:20260419T152813
CREATED:20240828T163151Z
LAST-MODIFIED:20240828T163151Z
UID:10001240-1725559200-1725566400@riverartsalliance.org
SUMMARY:Artist Development Workshop at WAC: “Putting a Value on Your Work”
DESCRIPTION:Winona Arts Center | 228 E 5th St. | Online via Zoom \nThe Winona Arts Center\, 228 E 5th St.\, is hosting a Free Artists Panel on September 5\, 2024 from 6:00-8:00. All artists are welcome to attend free of charge. The topic for the evening is “Putting A Value on Your Work.” This event is part of a series of artist development workshops being offered in-person and online through the Northfield Arts Guild with Southeastern Minnesota Arts Council (SEMAC) sponsorship. How do you place a value on a creative work that has come from your own heart and inspiration? How do we\, as artists\, measure our art in terms of time\, financial investment and worth? Join two artists\, Jovy Rockey and Anne Scott Plummer\, who have learned a great deal on this topic through their experience and artistic practices. Learn more.
URL:https://riverartsalliance.org/event/artist-development-workshop-at-wac-putting-a-value-on-your-work/
LOCATION:Winona Arts Center\, 228 E 5th St.\, Winona\, MN\, 55987\, United States
END:VEVENT
BEGIN:VEVENT
DTSTART;TZID=America/Chicago:20240907T100000
DTEND;TZID=America/Chicago:20240907T113000
DTSTAMP:20260419T152813
CREATED:20240816T030259Z
LAST-MODIFIED:20240816T030259Z
UID:10001231-1725703200-1725708600@riverartsalliance.org
SUMMARY:Driftless Past & Present: Art Workshop for Teens
DESCRIPTION:Minnesota Conservatory for the Arts | 1164 W 10th St.\nlinktr.ee/jamieschwaba \nDriftless Past & Present is a visual art exhibit held at MN Conservatory for the Arts (MCA)\, August 19 through September 27. All pieces were created by Winona artist\, Jamie Schwaba. The art mediums & styles in the pieces exhibited will be vast\, featuring ink & watercolor\, oil pastels\, PanPastels\, and more created on surfaces including vintage atlas pages\, recipes\, & sheet music. The colorful exhibit will appeal to all ages & will be tied together by the common thread of being connected to the Driftless. The public is invited to meet and visit with the artist during a reception on August 22. There are also two free visual art workshops on September 7. Learn more.
URL:https://riverartsalliance.org/event/driftless-past-present-art-workshop-for-teens/
LOCATION:Minnesota Conservatory for the Arts\, 1164 W 10th St.\, Winona\, MN\, United States
END:VEVENT
BEGIN:VEVENT
DTSTART;TZID=America/Chicago:20240907T100000
DTEND;TZID=America/Chicago:20240907T140000
DTSTAMP:20260419T152813
CREATED:20240817T010757Z
LAST-MODIFIED:20240817T010757Z
UID:10001236-1725703200-1725717600@riverartsalliance.org
SUMMARY:Family Art Day 2024
DESCRIPTION:Jaycee Pavilion | Lake Park | Winona \nFamily Art Day 2024 will take place on Saturday\, September 7 at the Jaycee Pavilion in Lake Park. This free\, annual event allows children of all ages and their families the opportunity to try out a variety of hands-on art activities at stations led by local artists. Please note that this year\, Family Art Day falls on the weekend after Labor Day. Watch for more information to come. If you are interested in volunteering at Family Art Day\, please email admin@riverartsalliance.org.
URL:https://riverartsalliance.org/event/family-art-day-2024/
LOCATION:Jaycee Pavilion\, 340 Lake Park Dr.\, Winona\, MN\, 55987\, United States
END:VEVENT
BEGIN:VEVENT
DTSTART;TZID=America/Chicago:20240907T120000
DTEND;TZID=America/Chicago:20240907T133000
DTSTAMP:20260419T152813
CREATED:20240816T151431Z
LAST-MODIFIED:20240816T151431Z
UID:10001232-1725710400-1725715800@riverartsalliance.org
SUMMARY:Driftless Past & Present: Art Workshop for Adults
DESCRIPTION:Minnesota Conservatory for the Arts | 1164 W 10th St.\nlinktr.ee/jamieschwaba \nDriftless Past & Present is a visual art exhibit held at MN Conservatory for the Arts (MCA)\, August 19 through September 27. All pieces were created by Winona artist\, Jamie Schwaba. The art mediums & styles in the pieces exhibited will be vast\, featuring ink & watercolor\, oil pastels\, PanPastels\, and more created on surfaces including vintage atlas pages\, recipes\, & sheet music. The colorful exhibit will appeal to all ages & will be tied together by the common thread of being connected to the Driftless. The public is invited to meet and visit with the artist during a reception on August 22. There are also two free visual art workshops on September 7. Learn more.
URL:https://riverartsalliance.org/event/driftless-past-present-art-workshop-for-adults/
LOCATION:Minnesota Conservatory for the Arts\, 1164 W 10th St.\, Winona\, MN\, United States
END:VEVENT
BEGIN:VEVENT
DTSTART;TZID=America/Chicago:20240908T140000
DTEND;TZID=America/Chicago:20240908T160000
DTSTAMP:20260419T152813
CREATED:20241024T201252Z
LAST-MODIFIED:20241024T201252Z
UID:10001267-1725804000-1725811200@riverartsalliance.org
SUMMARY:Opening Reception - Arrivals and Departures Juried Art Show
DESCRIPTION:Heyde Center for the Arts | 3 South High St. | Chippewa Falls\, WI\nwww.cvca.net \nRiver Arts Alliance member Julia Crozier is one of the artists whose work is included in Arrivals and Departures. This juried art show at the Heyde Center for the Arts in Chippewa Falls\, Wisconsin features works from artists 18 years and older residing in the states of Wisconsin\, Minnesota\, Iowa\, Illinois\, and Michigan. An opening reception and awards ceremony will take place on Sunday\, September 8\, from 2-4 pm. Learn more.
URL:https://riverartsalliance.org/event/opening-reception-arrivals-and-departures-juried-art-show/
LOCATION:Heyde Center for the Arts\, 3 South High St.\, Chippewa Falls\, WI\, 54729
END:VEVENT
BEGIN:VEVENT
DTSTART;TZID=America/Chicago:20240912T180000
DTEND;TZID=America/Chicago:20240912T193000
DTSTAMP:20260419T152813
CREATED:20240910T153550Z
LAST-MODIFIED:20240910T153550Z
UID:10001241-1726164000-1726169400@riverartsalliance.org
SUMMARY:"Traces of a Prairie" - Gallery Talk
DESCRIPTION:Lanesboro Arts Gallery | 103 Parkway Ave. N | Lanesboro\, MN\nlanesboroarts.org/calendar/traces-of-a-prairie/ \n“Traces of a Prairie” is an exhibition of drawings by Lois Peterson\, a River Arts Alliance member. This series of large-scale works in graphite preserves the imagery of native prairie plants and woodland trees in exquisite detail. Her work ruminates on the impacts of crop farming on local ecosystems while honoring the beauty of a vanishing native landscape. “Traces of a Prairie” will run from August 17th to October 20th at the Lanesboro Arts Exhibition Gallery\, located in Lanesboro\, MN. In a talk in conjunction with the exhibition\, on Thursday\, September 12th\, Dr. Melinda Knutson will provide a tutorial on prairies and oak savannas in the Driftless Area\, with tips on how to build your passion for prairies. Learn more.
URL:https://riverartsalliance.org/event/traces-of-a-prairie-gallery-talk/
LOCATION:Lanesboro Arts\, 103 Parkway Ave. N\, Lanesboro\, MN\, 55949
END:VEVENT
BEGIN:VEVENT
DTSTART;TZID=America/Chicago:20240913T190000
DTEND;TZID=America/Chicago:20240913T190000
DTSTAMP:20260419T152813
CREATED:20240910T155400Z
LAST-MODIFIED:20240910T155400Z
UID:10001242-1726254000-1726254000@riverartsalliance.org
SUMMARY:WAC Film Under the Fig Trees
DESCRIPTION:Winona Arts Center | 228 E 5th St.\nwinonaarts.org \nThe Winona Arts Center is showing a great film by Erige Sehiri entitled Under the Fig Trees on September 13 at 7:00. Cost is $5 at the door. The gallery opens at 6:00. \nOn a hot summer night\, a crew of workers arrive in a fig orchard in northwest Tunisia. Through sun-drenched leaves\, the youngest of the women steal precious moments away from the foreman’s watchful gaze. Meanwhile\, the elders\, tasked with the careful job of packing the tender fruit\, watch them and reminisce. This is a portrait of everyday life in which class and circumstance do not allow for personal freedoms but where sisterhood serves as a transformative act of resistance. Learn more.
URL:https://riverartsalliance.org/event/wac-film-under-the-fig-trees/
LOCATION:Winona Arts Center\, 228 E 5th St.\, Winona\, MN\, 55987\, United States
END:VEVENT
BEGIN:VEVENT
DTSTART;TZID=America/Chicago:20240914T100000
DTEND;TZID=America/Chicago:20240914T140000
DTSTAMP:20260419T152813
CREATED:20240910T160321Z
LAST-MODIFIED:20240910T160321Z
UID:10001243-1726308000-1726322400@riverartsalliance.org
SUMMARY:Sgraffito Tile Workshop with Richard Spiller
DESCRIPTION:Winona Arts Center | 228 E 5th St.\nwinonaarts.org \nThe Winona Arts Center welcomes potter Richard Spiller for a Sgraffito Tile Workshop on Saturday\, September 14\, 2024 from 10 am to 2 pm. Participants will scratch a design of their choosing or creation on either nine 4” tiles or four 6” tiles. Each tile is red earthenware leather hard clay with a white slip that has been applied. Pieces are then bisque fired after which Richard will apply a clear glaze and fire again\, then return to the Arts Center at a later date. Registration is required and maximum class size is 12. Learn more.
URL:https://riverartsalliance.org/event/sgraffito-tile-workshop-with-richard-spiller/
LOCATION:Winona Arts Center\, 228 E 5th St.\, Winona\, MN\, 55987\, United States
END:VEVENT
BEGIN:VEVENT
DTSTART;TZID=America/Chicago:20240914T100000
DTEND;TZID=America/Chicago:20240914T170000
DTSTAMP:20260419T152813
CREATED:20240917T010456Z
LAST-MODIFIED:20240917T010456Z
UID:10000411-1726308000-1726333200@riverartsalliance.org
SUMMARY:Studio West Art Tour
DESCRIPTION:Hopkins Center for the Arts | 1111 Mainstreet | Hopkins\, MN (& other locations)\nhopkinsartscenter.com \nRiver Arts Alliance member Joan Porter-Einsman is one of the artists participating in the Studio West Art Tour (formerly known as the Lake Minnetonka Studio Tour). Joan will be at the Hopkins Center for the Arts location\, 1111 Mainstreet in Hopkins\, MN. The tour runs Saturday\, September 14 from 10 am – 5 pm and Sunday\, September 15 from 11 am – 5 pm. Learn more.
URL:https://riverartsalliance.org/event/studio-west-art-tour/2024-09-14/
LOCATION:Hopkins Center for the Arts\, 1111 Mainstreet\, Hopkins\, MN\, 55343
END:VEVENT
BEGIN:VEVENT
DTSTART;TZID=America/Chicago:20240914T190000
DTEND;TZID=America/Chicago:20240914T210000
DTSTAMP:20260419T152813
CREATED:20240910T161318Z
LAST-MODIFIED:20240910T161318Z
UID:10001244-1726340400-1726347600@riverartsalliance.org
SUMMARY:Jeani & The Dreamers at WAC
DESCRIPTION:Winona Arts Center | 228 E 5th St.\nwinonaarts.org \nThe Winona Arts Center is excited to have Jeani & The Dreamers on Saturday\, Sept. 14 for our first fall concert of 2024. Coffeehouse and gallery open at 6:00 pm. Tickets are on sale at Music Mart (formerly Hardt’s Music) and on Eventbrite. Tickets are $10 in advance and $15 at the door. Jeani & The Dreamers keep classic Rock & Roll and easy listening country and folk music alive and well. Their music includes classic hits by The Beatles; Eagles; Crosby\, Stills\, Nash\, and Young; Linda Ronstadt; Fleetwood Mac; and others. Learn more.
URL:https://riverartsalliance.org/event/jeani-the-dreamers-at-wac/
LOCATION:Winona Arts Center\, 228 E 5th St.\, Winona\, MN\, 55987\, United States
END:VEVENT
BEGIN:VEVENT
DTSTART;TZID=America/Chicago:20240915T110000
DTEND;TZID=America/Chicago:20240915T170000
DTSTAMP:20260419T152813
CREATED:20240917T010456Z
LAST-MODIFIED:20240917T010456Z
UID:10000412-1726398000-1726419600@riverartsalliance.org
SUMMARY:Studio West Art Tour
DESCRIPTION:Hopkins Center for the Arts | 1111 Mainstreet | Hopkins\, MN (& other locations)\nhopkinsartscenter.com \nRiver Arts Alliance member Joan Porter-Einsman is one of the artists participating in the Studio West Art Tour (formerly known as the Lake Minnetonka Studio Tour). Joan will be at the Hopkins Center for the Arts location\, 1111 Mainstreet in Hopkins\, MN. The tour runs Saturday\, September 14 from 10 am – 5 pm and Sunday\, September 15 from 11 am – 5 pm. Learn more.
URL:https://riverartsalliance.org/event/studio-west-art-tour/2024-09-15/
LOCATION:Hopkins Center for the Arts\, 1111 Mainstreet\, Hopkins\, MN\, 55343
END:VEVENT
BEGIN:VEVENT
DTSTART;TZID=America/Chicago:20240915T130000
DTEND;TZID=America/Chicago:20240915T160000
DTSTAMP:20260419T152813
CREATED:20240916T220154Z
LAST-MODIFIED:20240916T220154Z
UID:10000409-1726405200-1726416000@riverartsalliance.org
SUMMARY:Figure Drawing Exhibit Opening
DESCRIPTION:Winona Arts Center | 228 E 5th St.\nwinonaarts.org \nThe Winona Arts Center is happy to host our Figure Drawing Circle Exhibit Opening on Sunday\, September 15 from 1:00-4:00. The figure drawing group meets weekly at the Arts Center and we are excited to display their work. The exhibit runs from September 15 through October 27. \nThroughout the ages\, the center of art has been the human form. Our brains are hardwired to seek out connections with our fellow humans — two dots and a curved line become a smiling face\, we can see people in the shapes of clouds and shadows. Whether crude stick figures\, near photographic renderings\, chiseled sculptures\, or artistic abstractions\, the human body has been a continual source of artistic inspiration. The tradition continues and Figure Drawing carries on that sense of artistic wonder. Learn more.
URL:https://riverartsalliance.org/event/figure-drawing-exhibit-opening/
LOCATION:Winona Arts Center\, 228 E 5th St.\, Winona\, MN\, 55987\, United States
END:VEVENT
BEGIN:VEVENT
DTSTART;TZID=America/Chicago:20240915T143000
DTEND;TZID=America/Chicago:20240915T173000
DTSTAMP:20260419T152813
CREATED:20240910T162744Z
LAST-MODIFIED:20240910T162744Z
UID:10001245-1726410600-1726421400@riverartsalliance.org
SUMMARY:September Jazz Jam Dedicated to Project FINE
DESCRIPTION:Two Fathoms Brewing | 65 E Front St.\nH3OJazz.com \nOn Sunday\, September 15\, H3O Jazz Trio and Two Fathoms Brewing Company will dedicate their monthly Jazz Jam fundraiser as part of the Project FINE Welcoming Week Celebration. The Jazz Jam takes place outside on Two Fathoms’ spacious patio or in the taproom if weather is bad. \nProject FINE is a nonprofit organization whose mission is “to create an inclusive community by serving refugees and immigrants and building connections across cultures.” H3O Jazz Trio and Two Fathoms Brewing (formerly Island City) have helped support local nonprofits with over $51\,500 in total donations thanks to the generosity of Jazz Jam patrons! Last month’s Jazz Jam contributed $615 to the River Arts Alliance. All Jazz Jam donations are matched by H3O and Two Fathoms – tripling everyone’s contributions! Learn more.
URL:https://riverartsalliance.org/event/september-jazz-jam-dedicated-to-project-fine/
LOCATION:Two Fathoms Brewing\, 65 E Front St.\, Winona\, MN\, 55987\, United States
END:VEVENT
BEGIN:VEVENT
DTSTART;TZID=America/Chicago:20240915T160000
DTEND;TZID=America/Chicago:20240915T160000
DTSTAMP:20260419T152813
CREATED:20240910T163744Z
LAST-MODIFIED:20240910T163744Z
UID:10001246-1726416000-1726416000@riverartsalliance.org
SUMMARY:Artaria String Quartet Benefit Concert at First Congregational
DESCRIPTION:First Congregational Church | 161 W Broadway St. \nThe world renowned Artaria String Quartet will perform a one hour concert at the First Congregational Church on Sunday\, September 15 at 4 pm. The performance will benefit the church’s campaign to renovate its historic 1880 building and world class Casavant pipe organ. The event is free and open to the public; a freewill donation is requested. Doors will open at 3:30. Learn more.
URL:https://riverartsalliance.org/event/artaria-string-quartet-benefit-concert-at-first-congregational/
LOCATION:First Congregational Church\, 161 W Broadway St.\, Winona\, MN\, 55987\, United States
END:VEVENT
BEGIN:VEVENT
DTSTART;TZID=America/Chicago:20240917T160000
DTEND;TZID=America/Chicago:20240917T190000
DTSTAMP:20260419T152813
CREATED:20240910T164834Z
LAST-MODIFIED:20240910T164941Z
UID:10001247-1726588800-1726599600@riverartsalliance.org
SUMMARY:Theatre du Mississippi Meet and Greet
DESCRIPTION:No Name Bar | 252 E 3rd St.\ntheatredumiss.org \nJoin Theatre du Mississippi for a casual evening as we host a Meet & Greet and Information Session. Whether you’re passionate about acting\, set building\, or just curious about the local arts and theatre scene\, there’s something for everyone! Come learn about Winona’s longest established local theater company\, the exciting upcoming projects\, and how YOU can get involved. From upcoming classes to volunteer opportunities\, we’ve got something for every theater lover—no matter your age or experience level. Learn more.
URL:https://riverartsalliance.org/event/theatre-du-mississippi-meet-and-greet/
LOCATION:No Name Bar\, 252 E 3rd St.\, Winona\, MN\, 55987
END:VEVENT
BEGIN:VEVENT
DTSTART;TZID=America/Chicago:20240920T190000
DTEND;TZID=America/Chicago:20240920T190000
DTSTAMP:20260419T152813
CREATED:20240916T214533Z
LAST-MODIFIED:20240916T214533Z
UID:10000405-1726858800-1726858800@riverartsalliance.org
SUMMARY:Bach Society of Minnesota Concert at Central Lutheran
DESCRIPTION:Central Lutheran Church | 259 W Wabasha St. \nThe Bach Society of Minnesota\, now in its 93rd year\, will open its 2024-25 season at 7:00 pm September 20 at Central Lutheran Church in Winona with a Double Concerto Extravaganza featuring works by Antonio Vivaldi\, G. Ph. Telemann\, Handel\, and J.S. Bach. Tickets ($25 regular\, $5 student) can be purchased at the door or online. Learn more.
URL:https://riverartsalliance.org/event/bach-society-of-minnesota-concert-at-central-lutheran/
LOCATION:Central Lutheran Church\, 259 W Wabasha St.\, Winona\, MN\, 55987\, United States
END:VEVENT
BEGIN:VEVENT
DTSTART;TZID=America/Chicago:20240921T130000
DTEND;TZID=America/Chicago:20240921T150000
DTSTAMP:20260419T152813
CREATED:20240916T215222Z
LAST-MODIFIED:20240916T215222Z
UID:10000406-1726923600-1726930800@riverartsalliance.org
SUMMARY:Tibetan Singing Bowls Meditation at WAC
DESCRIPTION:Winona Arts Center | 228 E 5th St.\nwinonaarts.org \nTibetan singing bowls produce sounds that invite deep states of relaxation\, enhancing the ability to meditate and enter expanded states of consciousness. The sounds and vibrations can create a sense of grounding\, facilitating a connection to the deepest parts of our being\, and opening the door to powerful healing. This is an opportunity for exploration and renewal in the presence of ageless bell sounds. Joan Filla is a local physician who was introduced to Tibetan singing bowls while recovering from long standing trauma. Singing bowls and meditation became an integral part of her journey and she hopes to share these powerful tools with others. The event is limited to 40 attendees. Pre-registration is required. Learn more.
URL:https://riverartsalliance.org/event/tibetan-singing-bowls-meditation-at-wac/
LOCATION:Winona Arts Center\, 228 E 5th St.\, Winona\, MN\, 55987\, United States
END:VEVENT
BEGIN:VEVENT
DTSTART;TZID=America/Chicago:20240927T190000
DTEND;TZID=America/Chicago:20240927T210000
DTSTAMP:20260419T152813
CREATED:20240930T162208Z
LAST-MODIFIED:20240930T162208Z
UID:10000420-1727463600-1727470800@riverartsalliance.org
SUMMARY:Autumn Unwind with H3O Jazz Trio
DESCRIPTION:Peter’s Biergarten | 54 E 3rd St.\nH3OJazz.com \nAs the leaves begin to turn\, enjoy an early autumn evening with H3O Jazz Trio for their next Unwind Friday – September 27 from 7 to 9 pm in Peter’s Biergarten. Unwind Friday offers mellow jazz to end the week\, meet with friends\, and enjoy a relaxing evening under the stars. Delicious food and desserts are available from Blooming Grounds and the biergarten has a wide variety of beers … all with no cover charge! In case of rain\, the music will move inside Blooming Grounds. Unwind Friday with H3O is scheduled on the last Friday of the month throughout the year. Learn more.
URL:https://riverartsalliance.org/event/autumn-unwind-with-h3o-jazz-trio/
LOCATION:Peter’s Biergarten\, 54 E 3rd St.\, Winona\, MN\, 55987\, United States
END:VEVENT
BEGIN:VEVENT
DTSTART;TZID=America/Chicago:20240929T130000
DTEND;TZID=America/Chicago:20240929T160000
DTSTAMP:20260419T152813
CREATED:20240918T154233Z
LAST-MODIFIED:20240918T154233Z
UID:10000414-1727614800-1727625600@riverartsalliance.org
SUMMARY:Patina at Elmaro Vineyard
DESCRIPTION:Elmaro Vineyard | N14756 Delaney Rd. | Trempealeau\, WI\npatinatheband.com \nCome out to Elmaro Vineyard on Sunday\, September 29th at 1:00 pm to hear the band Patina. We play a mix of traditional and contemporary Celtic\, folk\, and original instrumentals and vocals. Patina is a three-member Celtic band. Learn more.
URL:https://riverartsalliance.org/event/patina-at-elmaro-vineyard/
LOCATION:Elmaro Vineyard\, N14756 Delaney Rd.\, Trempealeau\, WI\, 54661\, United States
END:VEVENT
END:VCALENDAR