BEGIN:VCALENDAR
VERSION:2.0
PRODID:-//River Arts Alliance - ECPv6.15.20//NONSGML v1.0//EN
CALSCALE:GREGORIAN
METHOD:PUBLISH
X-ORIGINAL-URL:https://riverartsalliance.org
X-WR-CALDESC:Events for River Arts Alliance
REFRESH-INTERVAL;VALUE=DURATION:PT1H
X-Robots-Tag:noindex
X-PUBLISHED-TTL:PT1H
BEGIN:VTIMEZONE
TZID:America/Chicago
BEGIN:DAYLIGHT
TZOFFSETFROM:-0600
TZOFFSETTO:-0500
TZNAME:CDT
DTSTART:20210314T080000
END:DAYLIGHT
BEGIN:STANDARD
TZOFFSETFROM:-0500
TZOFFSETTO:-0600
TZNAME:CST
DTSTART:20211107T070000
END:STANDARD
BEGIN:DAYLIGHT
TZOFFSETFROM:-0600
TZOFFSETTO:-0500
TZNAME:CDT
DTSTART:20220313T080000
END:DAYLIGHT
BEGIN:STANDARD
TZOFFSETFROM:-0500
TZOFFSETTO:-0600
TZNAME:CST
DTSTART:20221106T070000
END:STANDARD
BEGIN:DAYLIGHT
TZOFFSETFROM:-0600
TZOFFSETTO:-0500
TZNAME:CDT
DTSTART:20230312T080000
END:DAYLIGHT
BEGIN:STANDARD
TZOFFSETFROM:-0500
TZOFFSETTO:-0600
TZNAME:CST
DTSTART:20231105T070000
END:STANDARD
BEGIN:DAYLIGHT
TZOFFSETFROM:-0600
TZOFFSETTO:-0500
TZNAME:CDT
DTSTART:20240310T080000
END:DAYLIGHT
BEGIN:STANDARD
TZOFFSETFROM:-0500
TZOFFSETTO:-0600
TZNAME:CST
DTSTART:20241103T070000
END:STANDARD
END:VTIMEZONE
BEGIN:VEVENT
DTSTART;TZID=America/Chicago:20231129T190000
DTEND;TZID=America/Chicago:20231129T190000
DTSTAMP:20260421T175547
CREATED:20231121T183233Z
LAST-MODIFIED:20231121T183233Z
UID:10000959-1701284400-1701284400@riverartsalliance.org
SUMMARY:Amanda Blue in Recital
DESCRIPTION:Chapel of Saint Mary of the Angels | 1160 W Wabasha St. \nCotter Schools invites you to a recital by Amanda Blue\, soprano and River Arts Alliance member\, with Mary Ellen Haupert\, pianist. The recital will take place at 7 pm on Wednesday\, November 29th\, in the Chapel of Saint Mary of the Angels at 1160 W Wabasha St.\, Winona.
URL:https://riverartsalliance.org/event/amanda-blue-in-recital/
LOCATION:Chapel of Saint Mary of the Angels\, 1160 W Wabasha St.\, Winona\, MN\, 55987\, United States
END:VEVENT
BEGIN:VEVENT
DTSTART;TZID=America/Chicago:20230415T193000
DTEND;TZID=America/Chicago:20230415T210000
DTSTAMP:20260421T175547
CREATED:20230331T165740Z
LAST-MODIFIED:20230331T165740Z
UID:10000277-1681587000-1681592400@riverartsalliance.org
SUMMARY:Saint Mary’s Spring Choral Concert
DESCRIPTION:Chapel of Saint Mary of the Angels | 1160 W Wabasha St. \nThe Saint Mary’s University Concert Choir\, Madrigal Singers\, men’s and women’s ensembles and alumni singers will combine to present their spring concert at the beautiful Mary of the Angels Chapel in Winona. Led by Dr. Janet Heukeshoven\, this concert will feature guest conductor Patrick O’Shea (former director of choirs at Saint Mary’s) as well as student conductor Gianna Henningsen and accompanist A. Eric Heukeshoven. This performance is free and open to the public; arrive early for best seating. A cookie reception will take place directly after the performance in Alverna Hall. Learn more.
URL:https://riverartsalliance.org/event/saint-marys-spring-choral-concert/
LOCATION:Chapel of Saint Mary of the Angels\, 1160 W Wabasha St.\, Winona\, MN\, 55987\, United States
END:VEVENT
BEGIN:VEVENT
DTSTART;TZID=America/Chicago:20221210T193000
DTEND;TZID=America/Chicago:20221210T193000
DTSTAMP:20260421T175547
CREATED:20221205T185924Z
LAST-MODIFIED:20221205T185924Z
UID:10000159-1670700600-1670700600@riverartsalliance.org
SUMMARY:Festival of 9 Lessons and Carols\, SMU Choirs
DESCRIPTION:Chapel of Saint Mary of the Angels | 1160 W Wabasha St. \nFestival of 9 Lessons and Carols\, SMU Choirs\, directed by Dr. Janet Heukeshoven \nMusic at Saint Mary’s presents three different December performances December 8-11th\, and the Red Bird Club jazz concert happens twice! Come enjoy a variety of performances performed by Saint Mary’s University musicians. All concerts are free\, and doors will open 30 minutes before concert time. Learn more.
URL:https://riverartsalliance.org/event/festival-of-9-lessons-and-carols-smu-choirs/
LOCATION:Chapel of Saint Mary of the Angels\, 1160 W Wabasha St.\, Winona\, MN\, 55987\, United States
END:VEVENT
END:VCALENDAR