BEGIN:VCALENDAR
VERSION:2.0
PRODID:-//River Arts Alliance - ECPv6.15.20//NONSGML v1.0//EN
CALSCALE:GREGORIAN
METHOD:PUBLISH
X-WR-CALNAME:River Arts Alliance
X-ORIGINAL-URL:https://riverartsalliance.org
X-WR-CALDESC:Events for River Arts Alliance
REFRESH-INTERVAL;VALUE=DURATION:PT1H
X-Robots-Tag:noindex
X-PUBLISHED-TTL:PT1H
BEGIN:VTIMEZONE
TZID:America/Chicago
BEGIN:DAYLIGHT
TZOFFSETFROM:-0600
TZOFFSETTO:-0500
TZNAME:CDT
DTSTART:20240310T080000
END:DAYLIGHT
BEGIN:STANDARD
TZOFFSETFROM:-0500
TZOFFSETTO:-0600
TZNAME:CST
DTSTART:20241103T070000
END:STANDARD
BEGIN:DAYLIGHT
TZOFFSETFROM:-0600
TZOFFSETTO:-0500
TZNAME:CDT
DTSTART:20250309T080000
END:DAYLIGHT
BEGIN:STANDARD
TZOFFSETFROM:-0500
TZOFFSETTO:-0600
TZNAME:CST
DTSTART:20251102T070000
END:STANDARD
BEGIN:DAYLIGHT
TZOFFSETFROM:-0600
TZOFFSETTO:-0500
TZNAME:CDT
DTSTART:20260308T080000
END:DAYLIGHT
BEGIN:STANDARD
TZOFFSETFROM:-0500
TZOFFSETTO:-0600
TZNAME:CST
DTSTART:20261101T070000
END:STANDARD
END:VTIMEZONE
BEGIN:VEVENT
DTSTART;TZID=America/Chicago:20250215T193000
DTEND;TZID=America/Chicago:20250215T210000
DTSTAMP:20260425T172638
CREATED:20250210T002206Z
LAST-MODIFIED:20250210T003023Z
UID:10000911-1739647800-1739653200@riverartsalliance.org
SUMMARY:Commonweal Theatre Presents Bob and Jean: A Love Story
DESCRIPTION:Commonweal Theatre Company\, 208 Parkway Ave. N\, Lanesboro MN\ncommonwealtheatre.org \nReal-life husband and wife team Jeremy van Meter and Catherine Glynn play two people not looking for love—but it found them at the worst possible time\, during World War II. Travel through their passionate\, funny\, and sometimes desperate letters as they navigate bombs\, wrecked trains\, miscues\, and the complexities of the human heart. Free to the Public. Reservations Appreciated. Learn more.
URL:https://riverartsalliance.org/event/23525/2025-02-15/
LOCATION:Commonweal Theatre\, 208 Parkway Ave. N\, Lanesboro\, MN\, United States
END:VEVENT
END:VCALENDAR