BEGIN:VCALENDAR
VERSION:2.0
PRODID:-//River Arts Alliance - ECPv6.15.20//NONSGML v1.0//EN
CALSCALE:GREGORIAN
METHOD:PUBLISH
X-WR-CALNAME:River Arts Alliance
X-ORIGINAL-URL:https://riverartsalliance.org
X-WR-CALDESC:Events for River Arts Alliance
REFRESH-INTERVAL;VALUE=DURATION:PT1H
X-Robots-Tag:noindex
X-PUBLISHED-TTL:PT1H
BEGIN:VTIMEZONE
TZID:America/Chicago
BEGIN:DAYLIGHT
TZOFFSETFROM:-0600
TZOFFSETTO:-0500
TZNAME:CDT
DTSTART:20210314T080000
END:DAYLIGHT
BEGIN:STANDARD
TZOFFSETFROM:-0500
TZOFFSETTO:-0600
TZNAME:CST
DTSTART:20211107T070000
END:STANDARD
BEGIN:DAYLIGHT
TZOFFSETFROM:-0600
TZOFFSETTO:-0500
TZNAME:CDT
DTSTART:20220313T080000
END:DAYLIGHT
BEGIN:STANDARD
TZOFFSETFROM:-0500
TZOFFSETTO:-0600
TZNAME:CST
DTSTART:20221106T070000
END:STANDARD
BEGIN:DAYLIGHT
TZOFFSETFROM:-0600
TZOFFSETTO:-0500
TZNAME:CDT
DTSTART:20230312T080000
END:DAYLIGHT
BEGIN:STANDARD
TZOFFSETFROM:-0500
TZOFFSETTO:-0600
TZNAME:CST
DTSTART:20231105T070000
END:STANDARD
BEGIN:DAYLIGHT
TZOFFSETFROM:-0600
TZOFFSETTO:-0500
TZNAME:CDT
DTSTART:20240310T080000
END:DAYLIGHT
BEGIN:STANDARD
TZOFFSETFROM:-0500
TZOFFSETTO:-0600
TZNAME:CST
DTSTART:20241103T070000
END:STANDARD
BEGIN:DAYLIGHT
TZOFFSETFROM:-0600
TZOFFSETTO:-0500
TZNAME:CDT
DTSTART:20250309T080000
END:DAYLIGHT
BEGIN:STANDARD
TZOFFSETFROM:-0500
TZOFFSETTO:-0600
TZNAME:CST
DTSTART:20251102T070000
END:STANDARD
BEGIN:DAYLIGHT
TZOFFSETFROM:-0600
TZOFFSETTO:-0500
TZNAME:CDT
DTSTART:20260308T080000
END:DAYLIGHT
BEGIN:STANDARD
TZOFFSETFROM:-0500
TZOFFSETTO:-0600
TZNAME:CST
DTSTART:20261101T070000
END:STANDARD
END:VTIMEZONE
BEGIN:VEVENT
DTSTART;TZID=America/Chicago:20250510T100000
DTEND;TZID=America/Chicago:20250510T160000
DTSTAMP:20260422T041955
CREATED:20250408T165408Z
LAST-MODIFIED:20250408T165408Z
UID:10001540-1746871200-1746892800@riverartsalliance.org
SUMMARY:Mid West Music Fest Presents Create & Connect Event May 10
DESCRIPTION:Free Public Event\nLevee Park & Other Downtown Locations\nmidwestmusicfest.org \nCreate & Connect is a FREE Mid West Music Fest event that features live music\, a makers market\, food trucks\, community art projects\, family fun\, and workshops hosted by community organizations. The goal is to create an inclusive\, vibrant\, and accessible celebration that fosters community connection\, supports local talent\, and provides an opportunity for people of all ages and backgrounds to come together. Learn more.
URL:https://riverartsalliance.org/event/mid-west-music-fest-presents-create-connect-event-may-10/
LOCATION:Levee Park\, 58 Center St.\, Winona\, MN\, 55987\, United States
END:VEVENT
BEGIN:VEVENT
DTSTART;TZID=America/Chicago:20230929T160000
DTEND;TZID=America/Chicago:20230929T160000
DTSTAMP:20260422T041955
CREATED:20230928T051128Z
LAST-MODIFIED:20230929T224419Z
UID:10000484-1696003200-1696003200@riverartsalliance.org
SUMMARY:Group Plein Air "Paint-Out" on the Levee
DESCRIPTION:Group “Paint-Out” on the Levee | Friday\, Sept. 29 | 4 pm-evening | Levee Park in downtown Winona\n\nUPDATE 5:30 PM 9/29: It’s been a great day of plein air activities so far! It looks like most of our painters are taking a break right now. Feel free to spend some time painting on your own at Levee Park. Otherwise\, we’ll see you there a little later this evening at about 6:30 for the start of our next official demos\, nocturne painting with Hannah C. Heyer and Joshua Cunningham. Watch for “painting event” signs and/or social media updates to find the specific area in the park where they’ll be setting up.\n\nThis event is part of Flora & Fauna – The Plein Air Experience\, 2023. Bring your easels\, paint and brushes (or the art supplies for your medium of choice) to join an informal\, public\, group paint-out at Levee Park on Friday afternoon and evening\, on the banks of the Mississippi River under a full moon! Sunset is at 6:51 pm and moonrise is at 7:10 pm. Feel free to start painting earlier in the afternoon; 4 pm is the end time of earlier events for the day. Nocturne painting demonstrations by featured artists Joshua Cunningham and Hannah C. Heyer will take place Friday evening at Levee Park (approximate start time 6:30 pm; watch for updates).\n\nFlora & Fauna – The Plein Air Experience\, 2023 is presented by River Arts Alliance in partnership with the Minnesota Marine Art Museum. This activity is made possible by the voters of Minnesota through a grant from the Minnesota State Arts Board\, thanks to a legislative appropriation from the arts and cultural heritage fund.\n\nSee the schedule of events for the weekend here.
URL:https://riverartsalliance.org/event/group-plein-air-paint-out-on-the-levee/
LOCATION:Levee Park\, 58 Center St.\, Winona\, MN\, 55987\, United States
END:VEVENT
BEGIN:VEVENT
DTSTART;TZID=America/Chicago:20220909T190000
DTEND;TZID=America/Chicago:20220909T190000
DTSTAMP:20260422T041955
CREATED:20220831T230150Z
LAST-MODIFIED:20220905T133028Z
UID:10000021-1662750000-1662750000@riverartsalliance.org
SUMMARY:SHIFT~ a performance salon presents BLUE AWAKEN/ings: Mary Jo Klinker & Sharon Mansur
DESCRIPTION:Friday | September 9 | 7 pm\nLevee Park\nmansurdance.com/shift \nJoin Winona based activist/scholar Mary Jo Klinker & dance/interdisciplinary artist Sharon Mansur for Blue Awaken/ings: a dance performance and feminist exploration of Maggie Nelson’s book Bluets. Experience a wandering performance through Levee Park. The event will start at the climbing boulders by Walnut Street\, move to the circle stage\, and end down by the river. Audience members are invited to wear blue and/or bring a blue object! Note: Contains mature themes. ADMISSION: FREE\, no reservations needed. Learn more.
URL:https://riverartsalliance.org/event/shift-a-performance-salon-presents-blue-awaken-ings-mary-jo-klinker-sharon-mansur/
LOCATION:Levee Park\, 58 Center St.\, Winona\, MN\, 55987\, United States
END:VEVENT
END:VCALENDAR