BEGIN:VCALENDAR
VERSION:2.0
PRODID:-//River Arts Alliance - ECPv6.15.20//NONSGML v1.0//EN
CALSCALE:GREGORIAN
METHOD:PUBLISH
X-ORIGINAL-URL:https://riverartsalliance.org
X-WR-CALDESC:Events for River Arts Alliance
REFRESH-INTERVAL;VALUE=DURATION:PT1H
X-Robots-Tag:noindex
X-PUBLISHED-TTL:PT1H
BEGIN:VTIMEZONE
TZID:America/Chicago
BEGIN:DAYLIGHT
TZOFFSETFROM:-0600
TZOFFSETTO:-0500
TZNAME:CDT
DTSTART:20210314T080000
END:DAYLIGHT
BEGIN:STANDARD
TZOFFSETFROM:-0500
TZOFFSETTO:-0600
TZNAME:CST
DTSTART:20211107T070000
END:STANDARD
BEGIN:DAYLIGHT
TZOFFSETFROM:-0600
TZOFFSETTO:-0500
TZNAME:CDT
DTSTART:20220313T080000
END:DAYLIGHT
BEGIN:STANDARD
TZOFFSETFROM:-0500
TZOFFSETTO:-0600
TZNAME:CST
DTSTART:20221106T070000
END:STANDARD
BEGIN:DAYLIGHT
TZOFFSETFROM:-0600
TZOFFSETTO:-0500
TZNAME:CDT
DTSTART:20230312T080000
END:DAYLIGHT
BEGIN:STANDARD
TZOFFSETFROM:-0500
TZOFFSETTO:-0600
TZNAME:CST
DTSTART:20231105T070000
END:STANDARD
BEGIN:DAYLIGHT
TZOFFSETFROM:-0600
TZOFFSETTO:-0500
TZNAME:CDT
DTSTART:20240310T080000
END:DAYLIGHT
BEGIN:STANDARD
TZOFFSETFROM:-0500
TZOFFSETTO:-0600
TZNAME:CST
DTSTART:20241103T070000
END:STANDARD
BEGIN:DAYLIGHT
TZOFFSETFROM:-0600
TZOFFSETTO:-0500
TZNAME:CDT
DTSTART:20250309T080000
END:DAYLIGHT
BEGIN:STANDARD
TZOFFSETFROM:-0500
TZOFFSETTO:-0600
TZNAME:CST
DTSTART:20251102T070000
END:STANDARD
END:VTIMEZONE
BEGIN:VEVENT
DTSTART;TZID=America/Chicago:20240122T190000
DTEND;TZID=America/Chicago:20240122T190000
DTSTAMP:20260421T071731
CREATED:20240115T205051Z
LAST-MODIFIED:20240115T205051Z
UID:10001027-1705950000-1705950000@riverartsalliance.org
SUMMARY:Winona Public Library Film by Mary Farrell
DESCRIPTION:Winona Public Library | 151 W 5th St.\nwinona.lib.mn.us \nThe Winona Public Library\, gifted to the city of Winona by William Harris Laird in 1899\, is celebrating its 125th anniversary and will premiere the documentary film showing of “Laird’s Legacy: A History of the Winona Public Library.” Filmed by local documentarian and River Arts Alliance member\, Mary Farrell\, and based on the book Laird’s Legacy: A History of the Winona Public Library by Greg Gaut\, the film will debut to the public with three different showings on Monday\, January 22nd and Thursday\, January 25th at 7 pm and Saturday\, January 27th at 11 am. All showings will take place at the Winona Public Library and are free to the public\, but tickets are required for January 22nd and 25th. Tickets are available at https://wpllairdslegacy.brownpapertickets.com. Learn more.
URL:https://riverartsalliance.org/event/winona-public-library-film-by-mary-farrell/
LOCATION:Winona Public Library\, 151 W 5th St.\, Winona\, MN\, 55987\, United States
END:VEVENT
BEGIN:VEVENT
DTSTART;TZID=America/Chicago:20230615T163000
DTEND;TZID=America/Chicago:20230615T180000
DTSTAMP:20260421T071731
CREATED:20230523T182243Z
LAST-MODIFIED:20230523T182243Z
UID:10000349-1686846600-1686852000@riverartsalliance.org
SUMMARY:Oil Pastel Workshop for Adults with Jamie Schwaba
DESCRIPTION:Winona Public Library | 151 W 5th St.\nlinktr.ee/jamieschwaba \nFrom June 1 through June 30 at the Winona Public Library in the Bell Art Room\, Jamie Schwaba will exhibit original artwork created on top of sheet music. This is Schwaba’s first solo exhibition and will hopefully send visitors off humming familiar tunes after viewing art inspired by music. Schwaba will also host two free visual art workshops on June 15\, 2023\, one for teens and one for adults. More information about the artist and her work can be found at: https://linktr.ee/jamieschwaba. For information about the Winona Public Library hours or to register for an art workshop visit: https://winona.lib.mn.us. Learn more.
URL:https://riverartsalliance.org/event/oil-pastel-workshop-for-adults-with-jamie-schwaba/
LOCATION:Winona Public Library\, 151 W 5th St.\, Winona\, MN\, 55987\, United States
END:VEVENT
BEGIN:VEVENT
DTSTART;TZID=America/Chicago:20230615T140000
DTEND;TZID=America/Chicago:20230615T153000
DTSTAMP:20260421T071731
CREATED:20230523T181607Z
LAST-MODIFIED:20230523T181607Z
UID:10000347-1686837600-1686843000@riverartsalliance.org
SUMMARY:Oil Pastel Workshop for Teens with Jamie Schwaba
DESCRIPTION:Winona Public Library | 151 W 5th St.\nlinktr.ee/jamieschwaba \nFrom June 1 through June 30 at the Winona Public Library in the Bell Art Room\, Jamie Schwaba will exhibit original artwork created on top of sheet music. This is Schwaba’s first solo exhibition and will hopefully send visitors off humming familiar tunes after viewing art inspired by music. Schwaba will also host two free visual art workshops on June 15\, 2023\, one for teens and one for adults. More information about the artist and her work can be found at: https://linktr.ee/jamieschwaba. For information about the Winona Public Library hours or to register for an art workshop visit: https://winona.lib.mn.us. Learn more.
URL:https://riverartsalliance.org/event/oil-pastel-workshop-for-teens-with-jamie-schwaba/
LOCATION:Winona Public Library\, 151 W 5th St.\, Winona\, MN\, 55987\, United States
END:VEVENT
BEGIN:VEVENT
DTSTART;TZID=America/Chicago:20230603T130000
DTEND;TZID=America/Chicago:20230603T143000
DTSTAMP:20260421T071731
CREATED:20230524T013027Z
LAST-MODIFIED:20230524T013027Z
UID:10000350-1685797200-1685802600@riverartsalliance.org
SUMMARY:African Drumming Workshop at WAC
DESCRIPTION:Winona Arts Center | 228 E 5th St.\nwinonaarts.org \nAn African Drumming workshop\, led by instructor Dr. Colleen Haas and sponsored by the Winona Drum Circle and the Winona Arts Center\, will be held at WAC on June 3. This workshop is open to individuals ages 14 and up\, and the cost is $16 for WAC members and $21 for non-members. Come and learn how to play 1-2 song styles from West Africa. Bring a drum if you have one; some drums and handheld percussion instruments will be available. No experience necessary. Learn more.
URL:https://riverartsalliance.org/event/african-drumming-workshop-at-wac/
LOCATION:Winona Public Library\, 151 W 5th St.\, Winona\, MN\, 55987\, United States
END:VEVENT
BEGIN:VEVENT
DTSTART;TZID=America/Chicago:20230515T130000
DTEND;TZID=America/Chicago:20230515T150000
DTSTAMP:20260421T071731
CREATED:20230513T215910Z
LAST-MODIFIED:20230513T220052Z
UID:10000332-1684155600-1684162800@riverartsalliance.org
SUMMARY:Great River Writes - May Winona Writers' Group Meeting
DESCRIPTION:Winona Public Library | 151 W 5th St. \nBring a copy of your writing that you wish to share (up to 2000 words). Optionally\, bring 5-8 extra copies to share with participants. \nPlease see May writing prompts and an important announcement regarding the future of the Great River Writes critique group here.
URL:https://riverartsalliance.org/event/great-river-writes-may-winona-writers-group-meeting/
LOCATION:Winona Public Library\, 151 W 5th St.\, Winona\, MN\, 55987\, United States
END:VEVENT
BEGIN:VEVENT
DTSTART;TZID=America/Chicago:20230417T130000
DTEND;TZID=America/Chicago:20230417T150000
DTSTAMP:20260421T071731
CREATED:20230406T184247Z
LAST-MODIFIED:20230413T170840Z
UID:10000282-1681736400-1681743600@riverartsalliance.org
SUMMARY:Great River Writes - April Winona Writers' Group Meeting
DESCRIPTION:Winona Public Library | 151 W 5th St. \nBring a copy of your writing that you wish to share (up to 2000 words). Optionally\, bring 5-8 extra copies to share with participants. See April writing prompts and more information here.
URL:https://riverartsalliance.org/event/great-river-writes-april-winona-writers-group-meeting/
LOCATION:Winona Public Library\, 151 W 5th St.\, Winona\, MN\, 55987\, United States
END:VEVENT
BEGIN:VEVENT
DTSTART;TZID=America/Chicago:20230320T130000
DTEND;TZID=America/Chicago:20230320T150000
DTSTAMP:20260421T071731
CREATED:20230315T162507Z
LAST-MODIFIED:20230315T162507Z
UID:10000254-1679317200-1679324400@riverartsalliance.org
SUMMARY:Great River Writes – March Winona Writers Group Meeting
DESCRIPTION:Winona Public Library | 151 W 5th St. \nAfter a two-month break\, we’re ready to meet again. Bring a copy of your writing that you wish to share (up to 2000 words). Optionally\, bring 5-8 extra copies to share with participants. \nSee March writing prompts and learn more here.
URL:https://riverartsalliance.org/event/great-river-writes-march-winona-writers-group-meeting/
LOCATION:Winona Public Library\, 151 W 5th St.\, Winona\, MN\, 55987\, United States
END:VEVENT
BEGIN:VEVENT
DTSTART;TZID=America/Chicago:20221219T130000
DTEND;TZID=America/Chicago:20221219T150000
DTSTAMP:20260421T071731
CREATED:20221211T232444Z
LAST-MODIFIED:20221211T232444Z
UID:10000166-1671454800-1671462000@riverartsalliance.org
SUMMARY:Great River Writes – December Winona Writers Group Meeting
DESCRIPTION:Winona Public Library | 151 W 5th St. \nGreat River Writes Critique Group\nWhere everyone is welcome to listen and share. \nBring a copy of your writing that you wish to share (up to 2000 words). Optionally\, bring 5-8 extra copies to share with participants. See December writing prompts & learn more here.
URL:https://riverartsalliance.org/event/great-river-writes-december-winona-writers-group-meeting/
LOCATION:Winona Public Library\, 151 W 5th St.\, Winona\, MN\, 55987\, United States
END:VEVENT
BEGIN:VEVENT
DTSTART;TZID=America/Chicago:20221121T130000
DTEND;TZID=America/Chicago:20221121T150000
DTSTAMP:20260421T071731
CREATED:20221118T201546Z
LAST-MODIFIED:20221118T201546Z
UID:10000034-1669035600-1669042800@riverartsalliance.org
SUMMARY:Great River Writes – November Winona Writers Group Meeting
DESCRIPTION:Winona Public Library | 151 W 5th St. \nBring a copy of your writing that you wish to share (up to 2000 words). Optionally\, bring 5-8 extra copies to share with participants. See November prompts & learn more.
URL:https://riverartsalliance.org/event/great-river-writes-november-winona-writers-group-meeting/
LOCATION:Winona Public Library\, 151 W 5th St.\, Winona\, MN\, 55987\, United States
END:VEVENT
BEGIN:VEVENT
DTSTART;TZID=America/Chicago:20221112T100000
DTEND;TZID=America/Chicago:20221112T120000
DTSTAMP:20260421T071731
CREATED:20221104T180322Z
LAST-MODIFIED:20221104T180322Z
UID:10000045-1668247200-1668254400@riverartsalliance.org
SUMMARY:NaNoWriMo Creative Writing and Local Author Fair
DESCRIPTION:Winona Public Library | 151 W 5th St.\nwinona.lib.mn.us \nNovember is National Novel Writing Month (NaNoWriMo). To celebrate the month\, the Winona Public Library is hosting local area authors and creative writing workshops during the NaNoWriMo Creative Writing and Local Author Fair on Saturday\, November 12th from 10 AM-12 PM. Authors include: Sarah Chapman\, Emilio DeGrazia\, Terri Karsten\, Amanda Lynn\, Ken Mogren\, Lisa David Olson\, Kathryn Sullivan\, Robert B. Taunt\, and Jan Wellik. Learn more.
URL:https://riverartsalliance.org/event/nanowrimo-creative-writing-and-local-author-fair/
LOCATION:Winona Public Library\, 151 W 5th St.\, Winona\, MN\, 55987\, United States
END:VEVENT
BEGIN:VEVENT
DTSTART;TZID=America/Chicago:20221017T130000
DTEND;TZID=America/Chicago:20221017T150000
DTSTAMP:20260421T071731
CREATED:20221011T173716Z
LAST-MODIFIED:20221011T173717Z
UID:10000108-1666011600-1666018800@riverartsalliance.org
SUMMARY:Great River Writes - October Winona Writers Group Meeting
DESCRIPTION:Winona Public Library | 151 W 5th St. \nBring a copy of your writing that you wish to share (up to 2000 words). Optionally\, bring 5-8 extra copies to share with participants. See October writing prompts and learn more here.
URL:https://riverartsalliance.org/event/great-river-writes-october-winona-writers-group-meeting/
LOCATION:Winona Public Library\, 151 W 5th St.\, Winona\, MN\, 55987\, United States
END:VEVENT
BEGIN:VEVENT
DTSTART;TZID=America/Chicago:20220919T130000
DTEND;TZID=America/Chicago:20220919T150000
DTSTAMP:20260421T071731
CREATED:20220913T225838Z
LAST-MODIFIED:20220913T225838Z
UID:10000007-1663592400-1663599600@riverartsalliance.org
SUMMARY:Great River Writes – September Winona Writers Group Meeting
DESCRIPTION:Winona Public Library | 151 W 5th St. \nGreat River Writes Critique Group\nWhere everyone is welcome to listen and share. \nBring a copy of your writing that you wish to share (up to 2000 words). Optionally\, bring 5-8 extra copies to share with participants. See September writing prompts & learn more here.
URL:https://riverartsalliance.org/event/great-river-writes-september-winona-writers-group-meeting/
LOCATION:Winona Public Library\, 151 W 5th St.\, Winona\, MN\, 55987\, United States
END:VEVENT
BEGIN:VEVENT
DTSTART;TZID=America/Chicago:20220815T130000
DTEND;TZID=America/Chicago:20220815T150000
DTSTAMP:20260421T071731
CREATED:20220808T232754Z
LAST-MODIFIED:20220808T232754Z
UID:10000048-1660568400-1660575600@riverartsalliance.org
SUMMARY:Great River Writes – August Winona Writers Group Meeting
DESCRIPTION:Winona Public Library | 151 W 5th St. \nBring a copy of your writing that you wish to share (up to 2000 words). Optionally\, bring 4 or 5 extra copies to share with participants. See August writing prompts & learn more here.
URL:https://riverartsalliance.org/event/great-river-writes-august-winona-writers-group-meeting/
LOCATION:Winona Public Library\, 151 W 5th St.\, Winona\, MN\, 55987\, United States
END:VEVENT
BEGIN:VEVENT
DTSTART;TZID=America/Chicago:20220718T130000
DTEND;TZID=America/Chicago:20220718T150000
DTSTAMP:20260421T071731
CREATED:20220713T141828Z
LAST-MODIFIED:20220713T141828Z
UID:10000080-1658149200-1658156400@riverartsalliance.org
SUMMARY:Great River Writes – July Winona Writers Group Meeting
DESCRIPTION:Winona Public Library | 151 W 5th St. \nGreat River Writes Critique Group: where everyone is welcome to listen and share. Bring a copy of your writing that you wish to share (up to 2000 words). See July writing prompts & learn more here.
URL:https://riverartsalliance.org/event/great-river-writes-july-winona-writers-group-meeting/
LOCATION:Winona Public Library\, 151 W 5th St.\, Winona\, MN\, 55987\, United States
END:VEVENT
END:VCALENDAR